BEGIN:VCALENDAR
VERSION:2.0
PRODID:-//St. John&#039;s Episcopal-Lutheran Church - ECPv6.15.20//NONSGML v1.0//EN
CALSCALE:GREGORIAN
METHOD:PUBLISH
X-ORIGINAL-URL:https://stjohnswilliamsaz.org
X-WR-CALDESC:Events for St. John&#039;s Episcopal-Lutheran Church
REFRESH-INTERVAL;VALUE=DURATION:PT1H
X-Robots-Tag:noindex
X-PUBLISHED-TTL:PT1H
BEGIN:VTIMEZONE
TZID:America/Phoenix
BEGIN:STANDARD
TZOFFSETFROM:-0700
TZOFFSETTO:-0700
TZNAME:MST
DTSTART:20240101T000000
END:STANDARD
END:VTIMEZONE
BEGIN:VEVENT
DTSTART;TZID=America/Phoenix:20251211T090000
DTEND;TZID=America/Phoenix:20251211T100000
DTSTAMP:20260424T192825
CREATED:20251204T215953Z
LAST-MODIFIED:20251204T215953Z
UID:3986-1765443600-1765447200@stjohnswilliamsaz.org
SUMMARY:Book Study Group
DESCRIPTION:The group is open to anyone in the community.  The book will be passed out to everyone who comes\, who would like to read the book and discuss it together with the group over the coming weeks.  The book is Good Soil: The Education of an Accidental Farmhand\, by Jeff Chu.  The book study group meets weekly in Walker Hall.
URL:https://stjohnswilliamsaz.org/event/book-study-group-12/
LOCATION:St. John’s Episcopal-Lutheran Church\, 202 W Grant Ave.\, Williams\, AZ\, 86046\, United States
CATEGORIES:Weekly Book Study
ATTACH;FMTTYPE=image/jpeg:https://stjohnswilliamsaz.org/wp-content/uploads/2025/09/Good-soil.jpeg
END:VEVENT
BEGIN:VEVENT
DTSTART;TZID=America/Phoenix:20251211T130000
DTEND;TZID=America/Phoenix:20251211T150000
DTSTAMP:20260424T192825
CREATED:20251128T191010Z
LAST-MODIFIED:20251128T191010Z
UID:3967-1765458000-1765465200@stjohnswilliamsaz.org
SUMMARY:Bishop's Committee Meeting
DESCRIPTION:The Bishop’s Committee will  hold its regular monthly meeting at 1 PM in Walker Hall.  The Committee will have monthly reports from officers and also be discussing an emergency phone tree and also emergency planning amongst other timely topics.
URL:https://stjohnswilliamsaz.org/event/bishops-committee-meeting-4/
LOCATION:St. John’s Episcopal-Lutheran Church\, 202 W Grant Ave.\, Williams\, AZ\, 86046\, United States
CATEGORIES:Meetings
ATTACH;FMTTYPE=image/png:https://stjohnswilliamsaz.org/wp-content/uploads/2024/01/group-1962592_640-meeting.png
END:VEVENT
END:VCALENDAR