BEGIN:VCALENDAR
VERSION:2.0
PRODID:-//St. John&#039;s Episcopal-Lutheran Church - ECPv6.15.20//NONSGML v1.0//EN
CALSCALE:GREGORIAN
METHOD:PUBLISH
X-WR-CALNAME:St. John&#039;s Episcopal-Lutheran Church
X-ORIGINAL-URL:https://stjohnswilliamsaz.org
X-WR-CALDESC:Events for St. John&#039;s Episcopal-Lutheran Church
REFRESH-INTERVAL;VALUE=DURATION:PT1H
X-Robots-Tag:noindex
X-PUBLISHED-TTL:PT1H
BEGIN:VTIMEZONE
TZID:America/Phoenix
BEGIN:STANDARD
TZOFFSETFROM:-0700
TZOFFSETTO:-0700
TZNAME:MST
DTSTART:20250101T000000
END:STANDARD
END:VTIMEZONE
BEGIN:VEVENT
DTSTART;TZID=America/Phoenix:20260208T093000
DTEND;TZID=America/Phoenix:20260208T100000
DTSTAMP:20260424T161222
CREATED:20260129T223222Z
LAST-MODIFIED:20260129T223222Z
UID:4114-1770543000-1770544800@stjohnswilliamsaz.org
SUMMARY:Weekly Church Choir Rehearsal
DESCRIPTION:The choir will be rehearsing songs for the season after Epiphany and Lent.  Everyone is welcome to join our choir – you do not have to be a member of St. John’s to sing.  Everyone who enjoys making a joyful noise to the Lord is Welcome.  Our choir is for Junior/middle high students through adults of all ages.
URL:https://stjohnswilliamsaz.org/event/weekly-church-choir-rehearsal-18/
LOCATION:St. John’s Episcopal-Lutheran Church\, 202 W Grant Ave.\, Williams\, AZ\, 86046\, United States
CATEGORIES:Church Choir Practice
ATTACH;FMTTYPE=image/png:https://stjohnswilliamsaz.org/wp-content/uploads/2021/10/choir-g885bc677a_640.png
END:VEVENT
BEGIN:VEVENT
DTSTART;TZID=America/Phoenix:20260208T103000
DTEND;TZID=America/Phoenix:20260208T140000
DTSTAMP:20260424T161222
CREATED:20260117T021043Z
LAST-MODIFIED:20260117T021043Z
UID:4091-1770546600-1770559200@stjohnswilliamsaz.org
SUMMARY:Annual Meeting of the Congregation
DESCRIPTION:We will have our annual meeting of the congregation of St. John’s on February 8th.  The meeting officially begins at the start of our regular worship service\, and after the conclusion of the service we will move to Walker Hall and enjoy a potluck lunch.  While we are enjoying dessert we will begin the business portion of the meeting with elections\, approving the budget for the year\, and then discuss ideas for programs and projects during the year and how to implement them.   We ask that everyone who regularly attends St. John’s to come to this meeting and participate by sharing your ideas and love of this church. \nThere will be a sign-up sheet for the pot luck lunch on the narthex table.
URL:https://stjohnswilliamsaz.org/event/annual-meeting-congregation/
LOCATION:St. John’s Episcopal-Lutheran Church\, 202 W Grant Ave.\, Williams\, AZ\, 86046\, United States
CATEGORIES:Meetings
ATTACH;FMTTYPE=image/jpeg:https://stjohnswilliamsaz.org/wp-content/uploads/2026/01/church-oct-2025_1.jpg
END:VEVENT
END:VCALENDAR