BEGIN:VCALENDAR
VERSION:2.0
PRODID:-//St. John&#039;s Episcopal-Lutheran Church - ECPv6.15.20//NONSGML v1.0//EN
CALSCALE:GREGORIAN
METHOD:PUBLISH
X-WR-CALNAME:St. John&#039;s Episcopal-Lutheran Church
X-ORIGINAL-URL:https://stjohnswilliamsaz.org
X-WR-CALDESC:Events for St. John&#039;s Episcopal-Lutheran Church
REFRESH-INTERVAL;VALUE=DURATION:PT1H
X-Robots-Tag:noindex
X-PUBLISHED-TTL:PT1H
BEGIN:VTIMEZONE
TZID:America/Phoenix
BEGIN:STANDARD
TZOFFSETFROM:-0700
TZOFFSETTO:-0700
TZNAME:MST
DTSTART:20250101T000000
END:STANDARD
END:VTIMEZONE
BEGIN:VEVENT
DTSTART;TZID=America/Phoenix:20260212T120000
DTEND;TZID=America/Phoenix:20260212T124500
DTSTAMP:20260424T161221
CREATED:20260203T235722Z
LAST-MODIFIED:20260203T235806Z
UID:4129-1770897600-1770900300@stjohnswilliamsaz.org
SUMMARY:Healing Service
DESCRIPTION:We will hold our next Healing Service for anyone in need of healing (physical\, spiritual\, mental\, etc.). This service is open to all in the community who are in need of any type of healing and spiritual comfort. You may also with to attend for someone you know who is in need of healing.  This service is also open to those who may not be able to worship with us on Sunday mornings\, and would like to attend a service with Communion.
URL:https://stjohnswilliamsaz.org/event/healing-service-6/
LOCATION:St. John’s Episcopal-Lutheran Church\, 202 W Grant Ave.\, Williams\, AZ\, 86046\, United States
CATEGORIES:Special church services
ATTACH;FMTTYPE=image/jpeg:https://stjohnswilliamsaz.org/wp-content/uploads/2024/06/prayer-together-5928481_640.jpg
END:VEVENT
BEGIN:VEVENT
DTSTART;TZID=America/Phoenix:20260212T130000
DTEND;TZID=America/Phoenix:20260212T140000
DTSTAMP:20260424T161221
CREATED:20260204T000053Z
LAST-MODIFIED:20260204T000053Z
UID:4131-1770901200-1770904800@stjohnswilliamsaz.org
SUMMARY:Bible Study
DESCRIPTION:Fr. Shaw is has restarted a Bible Study class.  The class will begin at 1 pm\, after the Healing Service.  All are welcome.  You do not need to be a member of St. John’s to join in.  Class meets in Walker Hall.
URL:https://stjohnswilliamsaz.org/event/bible-study-3/
LOCATION:St. John’s Episcopal-Lutheran Church\, 202 W Grant Ave.\, Williams\, AZ\, 86046\, United States
CATEGORIES:Bible Study
ATTACH;FMTTYPE=image/jpeg:https://stjohnswilliamsaz.org/wp-content/uploads/2017/11/bible-1149924_640.jpg
END:VEVENT
END:VCALENDAR