BEGIN:VCALENDAR
VERSION:2.0
PRODID:-//St. John&#039;s Episcopal-Lutheran Church - ECPv6.15.20//NONSGML v1.0//EN
CALSCALE:GREGORIAN
METHOD:PUBLISH
X-WR-CALNAME:St. John&#039;s Episcopal-Lutheran Church
X-ORIGINAL-URL:https://stjohnswilliamsaz.org
X-WR-CALDESC:Events for St. John&#039;s Episcopal-Lutheran Church
REFRESH-INTERVAL;VALUE=DURATION:PT1H
X-Robots-Tag:noindex
X-PUBLISHED-TTL:PT1H
BEGIN:VTIMEZONE
TZID:America/Phoenix
BEGIN:STANDARD
TZOFFSETFROM:-0700
TZOFFSETTO:-0700
TZNAME:MST
DTSTART:20250101T000000
END:STANDARD
END:VTIMEZONE
BEGIN:VEVENT
DTSTART;TZID=America/Phoenix:20260224T100000
DTEND;TZID=America/Phoenix:20260224T110000
DTSTAMP:20260424T143614
CREATED:20260213T023011Z
LAST-MODIFIED:20260213T023126Z
UID:4151-1771927200-1771930800@stjohnswilliamsaz.org
SUMMARY:Book Study Group
DESCRIPTION:The group is open to anyone in the community.  The book will be passed out to everyone who comes\, who would like to read the book and discuss it together with the group over the coming weeks.  The book is Good Soil: The Education of an Accidental Farmhand\, by Jeff Chu.  The book study group meets weekly in Walker Hall.
URL:https://stjohnswilliamsaz.org/event/book-study-group-21/
LOCATION:St. John’s Episcopal-Lutheran Church\, 202 W Grant Ave.\, Williams\, AZ\, 86046\, United States
CATEGORIES:Weekly Book Study
ATTACH;FMTTYPE=image/jpeg:https://stjohnswilliamsaz.org/wp-content/uploads/2025/09/Good-soil.jpeg
END:VEVENT
BEGIN:VEVENT
DTSTART;TZID=America/Phoenix:20260224T170000
DTEND;TZID=America/Phoenix:20260224T190000
DTSTAMP:20260424T143614
CREATED:20260217T203332Z
LAST-MODIFIED:20260221T221042Z
UID:4155-1771952400-1771959600@stjohnswilliamsaz.org
SUMMARY:Community Pancake Dinner
DESCRIPTION:Celebrate Tuesday with pancakes and sausage!  St. John’s will be serving those pancakes with loads of toppings along with beverages.  There is no set cost for this dinner – just a free-will donation.  This is a fun event for the entire community – so everyone come hungry!
URL:https://stjohnswilliamsaz.org/event/community-pancake-dinner/
LOCATION:St. John’s Episcopal-Lutheran Church\, 202 W Grant Ave.\, Williams\, AZ\, 86046\, United States
CATEGORIES:Special events
ATTACH;FMTTYPE=image/jpeg:https://stjohnswilliamsaz.org/wp-content/uploads/2023/02/berries-g57109aa4f_640.jpg
END:VEVENT
END:VCALENDAR