BEGIN:VCALENDAR
VERSION:2.0
PRODID:-//St. John&#039;s Episcopal-Lutheran Church - ECPv6.15.20//NONSGML v1.0//EN
CALSCALE:GREGORIAN
METHOD:PUBLISH
X-ORIGINAL-URL:https://stjohnswilliamsaz.org
X-WR-CALDESC:Events for St. John&#039;s Episcopal-Lutheran Church
REFRESH-INTERVAL;VALUE=DURATION:PT1H
X-Robots-Tag:noindex
X-PUBLISHED-TTL:PT1H
BEGIN:VTIMEZONE
TZID:America/Phoenix
BEGIN:STANDARD
TZOFFSETFROM:-0700
TZOFFSETTO:-0700
TZNAME:MST
DTSTART:20240101T000000
END:STANDARD
END:VTIMEZONE
BEGIN:VEVENT
DTSTART;TZID=America/Phoenix:20260419T093000
DTEND;TZID=America/Phoenix:20260419T100000
DTSTAMP:20260424T155331
CREATED:20260401T214740Z
LAST-MODIFIED:20260401T214740Z
UID:4274-1776591000-1776592800@stjohnswilliamsaz.org
SUMMARY:Weekly Church Choir Rehearsal
DESCRIPTION:Everyone is welcome to join our choir – you do not have to be a member of St. John’s to sing.  Everyone who enjoys making a joyful noise to the Lord is Welcome.  Our choir is for Junior/middle high students through adults of all ages.  We will be working on anthems to be sung in April and May.
URL:https://stjohnswilliamsaz.org/event/weekly-church-choir-rehearsal-3/
LOCATION:St. John’s Episcopal-Lutheran Church\, 202 W Grant Ave.\, Williams\, AZ\, 86046\, United States
CATEGORIES:Church Choir Practice
ATTACH;FMTTYPE=image/png:https://stjohnswilliamsaz.org/wp-content/uploads/2021/10/choir-g885bc677a_640.png
END:VEVENT
BEGIN:VEVENT
DTSTART;TZID=America/Phoenix:20260412T093000
DTEND;TZID=America/Phoenix:20260412T100000
DTSTAMP:20260424T155331
CREATED:20260401T214511Z
LAST-MODIFIED:20260401T214511Z
UID:4272-1775986200-1775988000@stjohnswilliamsaz.org
SUMMARY:Weekly Church Choir Rehearsal
DESCRIPTION:Everyone is welcome to join our choir – you do not have to be a member of St. John’s to sing.  Everyone who enjoys making a joyful noise to the Lord is Welcome.  Our choir is for Junior/middle high students through adults of all ages.  We will be working on anthems to be sung in April and May.
URL:https://stjohnswilliamsaz.org/event/weekly-church-choir-rehearsal-2/
LOCATION:St. John’s Episcopal-Lutheran Church\, 202 W Grant Ave.\, Williams\, AZ\, 86046\, United States
CATEGORIES:Church Choir Practice
ATTACH;FMTTYPE=image/png:https://stjohnswilliamsaz.org/wp-content/uploads/2021/10/choir-g885bc677a_640.png
END:VEVENT
BEGIN:VEVENT
DTSTART;TZID=America/Phoenix:20260405T093000
DTEND;TZID=America/Phoenix:20260405T100000
DTSTAMP:20260424T155331
CREATED:20260311T000629Z
LAST-MODIFIED:20260311T000629Z
UID:4210-1775381400-1775383200@stjohnswilliamsaz.org
SUMMARY:Weekly Church Choir Rehearsal
DESCRIPTION:The choir will be rehearsing a song for Easter service.  Everyone is welcome to join our choir – you do not have to be a member of St. John’s to sing.  Everyone who enjoys making a joyful noise to the Lord is Welcome.  Our choir is for Junior/middle high students through adults of all ages.
URL:https://stjohnswilliamsaz.org/event/weekly-church-choir-rehearsal-24/
LOCATION:St. John’s Episcopal-Lutheran Church\, 202 W Grant Ave.\, Williams\, AZ\, 86046\, United States
CATEGORIES:Church Choir Practice
ATTACH;FMTTYPE=image/png:https://stjohnswilliamsaz.org/wp-content/uploads/2021/10/choir-g885bc677a_640.png
END:VEVENT
BEGIN:VEVENT
DTSTART;TZID=America/Phoenix:20260329T093000
DTEND;TZID=America/Phoenix:20260329T100000
DTSTAMP:20260424T155331
CREATED:20260311T000419Z
LAST-MODIFIED:20260311T000419Z
UID:4208-1774776600-1774778400@stjohnswilliamsaz.org
SUMMARY:Weekly Church Choir Rehearsal
DESCRIPTION:The choir will be rehearsing a song for Easter.  Everyone is welcome to join our choir – you do not have to be a member of St. John’s to sing.  Everyone who enjoys making a joyful noise to the Lord is Welcome.  Our choir is for Junior/middle high students through adults of all ages.
URL:https://stjohnswilliamsaz.org/event/weekly-church-choir-rehearsal-23/
LOCATION:St. John’s Episcopal-Lutheran Church\, 202 W Grant Ave.\, Williams\, AZ\, 86046\, United States
CATEGORIES:Church Choir Practice
ATTACH;FMTTYPE=image/png:https://stjohnswilliamsaz.org/wp-content/uploads/2021/10/choir-g885bc677a_640.png
END:VEVENT
BEGIN:VEVENT
DTSTART;TZID=America/Phoenix:20260322T093000
DTEND;TZID=America/Phoenix:20260322T100000
DTSTAMP:20260424T155331
CREATED:20260311T000149Z
LAST-MODIFIED:20260311T000149Z
UID:4206-1774171800-1774173600@stjohnswilliamsaz.org
SUMMARY:Weekly Church Choir Rehearsal
DESCRIPTION:The choir will be rehearsing songs for the season of Lent and Easter.  Everyone is welcome to join our choir – you do not have to be a member of St. John’s to sing.  Everyone who enjoys making a joyful noise to the Lord is Welcome.  Our choir is for Junior/middle high students through adults of all ages.
URL:https://stjohnswilliamsaz.org/event/weekly-church-choir-rehearsal-22/
LOCATION:St. John’s Episcopal-Lutheran Church\, 202 W Grant Ave.\, Williams\, AZ\, 86046\, United States
CATEGORIES:Church Choir Practice
ATTACH;FMTTYPE=image/png:https://stjohnswilliamsaz.org/wp-content/uploads/2021/10/choir-g885bc677a_640.png
END:VEVENT
BEGIN:VEVENT
DTSTART;TZID=America/Phoenix:20260315T093000
DTEND;TZID=America/Phoenix:20260315T100000
DTSTAMP:20260424T155331
CREATED:20260310T235955Z
LAST-MODIFIED:20260310T235955Z
UID:4204-1773567000-1773568800@stjohnswilliamsaz.org
SUMMARY:Weekly Church Choir Rehearsal
DESCRIPTION:The choir will be rehearsing songs for the season of Lent and Easter.  Everyone is welcome to join our choir – you do not have to be a member of St. John’s to sing.  Everyone who enjoys making a joyful noise to the Lord is Welcome.  Our choir is for Junior/middle high students through adults of all ages.
URL:https://stjohnswilliamsaz.org/event/weekly-church-choir-rehearsal/
LOCATION:St. John’s Episcopal-Lutheran Church\, 202 W Grant Ave.\, Williams\, AZ\, 86046\, United States
CATEGORIES:Church Choir Practice
ATTACH;FMTTYPE=image/png:https://stjohnswilliamsaz.org/wp-content/uploads/2021/10/choir-g885bc677a_640.png
END:VEVENT
BEGIN:VEVENT
DTSTART;TZID=America/Phoenix:20260301T093000
DTEND;TZID=America/Phoenix:20260301T100000
DTSTAMP:20260424T155331
CREATED:20260221T221820Z
LAST-MODIFIED:20260221T221820Z
UID:4186-1772357400-1772359200@stjohnswilliamsaz.org
SUMMARY:Weekly Church Choir Rehearsal
DESCRIPTION:The choir will be rehearsing songs for the season of Lent.  Everyone is welcome to join our choir – you do not have to be a member of St. John’s to sing.  Everyone who enjoys making a joyful noise to the Lord is Welcome.  Our choir is for Junior/middle high students through adults of all ages.
URL:https://stjohnswilliamsaz.org/event/weekly-church-choir-rehearsal-21/
LOCATION:St. John’s Episcopal-Lutheran Church\, 202 W Grant Ave.\, Williams\, AZ\, 86046\, United States
CATEGORIES:Church Choir Practice
ATTACH;FMTTYPE=image/png:https://stjohnswilliamsaz.org/wp-content/uploads/2021/10/choir-g885bc677a_640.png
END:VEVENT
BEGIN:VEVENT
DTSTART;TZID=America/Phoenix:20260222T093000
DTEND;TZID=America/Phoenix:20260222T100000
DTSTAMP:20260424T155331
CREATED:20260213T022235Z
LAST-MODIFIED:20260213T022235Z
UID:4147-1771752600-1771754400@stjohnswilliamsaz.org
SUMMARY:Weekly Church Choir Rehearsal
DESCRIPTION:The choir will be rehearsing songs for the season of Lent.  Everyone is welcome to join our choir – you do not have to be a member of St. John’s to sing.  Everyone who enjoys making a joyful noise to the Lord is Welcome.  Our choir is for Junior/middle high students through adults of all ages.
URL:https://stjohnswilliamsaz.org/event/weekly-church-choir-rehearsal-20/
LOCATION:St. John’s Episcopal-Lutheran Church\, 202 W Grant Ave.\, Williams\, AZ\, 86046\, United States
CATEGORIES:Church Choir Practice
ATTACH;FMTTYPE=image/png:https://stjohnswilliamsaz.org/wp-content/uploads/2021/10/choir-g885bc677a_640.png
END:VEVENT
BEGIN:VEVENT
DTSTART;TZID=America/Phoenix:20260215T093000
DTEND;TZID=America/Phoenix:20260215T100000
DTSTAMP:20260424T155331
CREATED:20260213T022033Z
LAST-MODIFIED:20260213T022033Z
UID:4145-1771147800-1771149600@stjohnswilliamsaz.org
SUMMARY:Weekly Church Choir Rehearsal
DESCRIPTION:The choir will be rehearsing songs for the season after Epiphany and Lent.  Everyone is welcome to join our choir – you do not have to be a member of St. John’s to sing.  Everyone who enjoys making a joyful noise to the Lord is Welcome.  Our choir is for Junior/middle high students through adults of all ages.
URL:https://stjohnswilliamsaz.org/event/weekly-church-choir-rehearsal-19/
LOCATION:St. John’s Episcopal-Lutheran Church\, 202 W Grant Ave.\, Williams\, AZ\, 86046\, United States
CATEGORIES:Church Choir Practice
ATTACH;FMTTYPE=image/png:https://stjohnswilliamsaz.org/wp-content/uploads/2021/10/choir-g885bc677a_640.png
END:VEVENT
BEGIN:VEVENT
DTSTART;TZID=America/Phoenix:20260208T093000
DTEND;TZID=America/Phoenix:20260208T100000
DTSTAMP:20260424T155331
CREATED:20260129T223222Z
LAST-MODIFIED:20260129T223222Z
UID:4114-1770543000-1770544800@stjohnswilliamsaz.org
SUMMARY:Weekly Church Choir Rehearsal
DESCRIPTION:The choir will be rehearsing songs for the season after Epiphany and Lent.  Everyone is welcome to join our choir – you do not have to be a member of St. John’s to sing.  Everyone who enjoys making a joyful noise to the Lord is Welcome.  Our choir is for Junior/middle high students through adults of all ages.
URL:https://stjohnswilliamsaz.org/event/weekly-church-choir-rehearsal-18/
LOCATION:St. John’s Episcopal-Lutheran Church\, 202 W Grant Ave.\, Williams\, AZ\, 86046\, United States
CATEGORIES:Church Choir Practice
ATTACH;FMTTYPE=image/png:https://stjohnswilliamsaz.org/wp-content/uploads/2021/10/choir-g885bc677a_640.png
END:VEVENT
BEGIN:VEVENT
DTSTART;TZID=America/Phoenix:20260201T093000
DTEND;TZID=America/Phoenix:20260201T100000
DTSTAMP:20260424T155331
CREATED:20260129T222955Z
LAST-MODIFIED:20260129T222955Z
UID:4112-1769938200-1769940000@stjohnswilliamsaz.org
SUMMARY:Weekly Church Choir Rehearsal
DESCRIPTION:The choir will be rehearsing songs for the season after Epiphany and Lent.  Everyone is welcome to join our choir – you do not have to be a member of St. John’s to sing.  Everyone who enjoys making a joyful noise to the Lord is Welcome.  Our choir is for Junior/middle high students through adults of all ages.
URL:https://stjohnswilliamsaz.org/event/weekly-church-choir-rehearsal-17/
LOCATION:St. John’s Episcopal-Lutheran Church\, 202 W Grant Ave.\, Williams\, AZ\, 86046\, United States
CATEGORIES:Church Choir Practice
ATTACH;FMTTYPE=image/png:https://stjohnswilliamsaz.org/wp-content/uploads/2021/10/choir-g885bc677a_640.png
END:VEVENT
BEGIN:VEVENT
DTSTART;TZID=America/Phoenix:20260125T093000
DTEND;TZID=America/Phoenix:20260125T100000
DTSTAMP:20260424T155331
CREATED:20260115T012906Z
LAST-MODIFIED:20260115T012920Z
UID:4082-1769333400-1769335200@stjohnswilliamsaz.org
SUMMARY:Weekly Church Choir Rehearsal
DESCRIPTION:The choir will be rehearsing songs for the season after Epiphany and Lent.  Everyone is welcome to join our choir – you do not have to be a member of St. John’s to sing.  Everyone who enjoys making a joyful noise to the Lord is Welcome.  Our choir is for Junior/middle high students through adults of all ages.
URL:https://stjohnswilliamsaz.org/event/weekly-church-choir-rehearsal-16/
LOCATION:St. John’s Episcopal-Lutheran Church\, 202 W Grant Ave.\, Williams\, AZ\, 86046\, United States
CATEGORIES:Church Choir Practice
ATTACH;FMTTYPE=image/png:https://stjohnswilliamsaz.org/wp-content/uploads/2021/10/choir-g885bc677a_640.png
END:VEVENT
BEGIN:VEVENT
DTSTART;TZID=America/Phoenix:20260118T093000
DTEND;TZID=America/Phoenix:20260118T100000
DTSTAMP:20260424T155331
CREATED:20260106T035416Z
LAST-MODIFIED:20260106T035416Z
UID:4053-1768728600-1768730400@stjohnswilliamsaz.org
SUMMARY:Weekly Church Choir Rehearsal
DESCRIPTION:The choir will be rehearsing two songs the season after Epiphany\, and looking ahead to Lent.  Everyone is welcome to join our choir – you do not have to be a member of St. John’s to sing.  Everyone who enjoys making a joyful noise to the Lord is Welcome.  Our choir is for Junior/middle high students through adults of all ages.
URL:https://stjohnswilliamsaz.org/event/weekly-church-choir-rehearsal-15/
LOCATION:St. John’s Episcopal-Lutheran Church\, 202 W Grant Ave.\, Williams\, AZ\, 86046\, United States
CATEGORIES:Church Choir Practice
ATTACH;FMTTYPE=image/png:https://stjohnswilliamsaz.org/wp-content/uploads/2021/10/choir-g885bc677a_640.png
END:VEVENT
BEGIN:VEVENT
DTSTART;TZID=America/Phoenix:20260111T093000
DTEND;TZID=America/Phoenix:20260111T100000
DTSTAMP:20260424T155331
CREATED:20260106T035218Z
LAST-MODIFIED:20260106T035218Z
UID:4051-1768123800-1768125600@stjohnswilliamsaz.org
SUMMARY:Weekly Church Choir Rehearsal
DESCRIPTION:The choir will be rehearsing two songs the season after Epiphany\, and looking ahead to Lent.  Everyone is welcome to join our choir – you do not have to be a member of St. John’s to sing.  Everyone who enjoys making a joyful noise to the Lord is Welcome.  Our choir is for Junior/middle high students through adults of all ages.
URL:https://stjohnswilliamsaz.org/event/weekly-church-choir-rehearsal-14/
LOCATION:St. John’s Episcopal-Lutheran Church\, 202 W Grant Ave.\, Williams\, AZ\, 86046\, United States
CATEGORIES:Church Choir Practice
ATTACH;FMTTYPE=image/png:https://stjohnswilliamsaz.org/wp-content/uploads/2021/10/choir-g885bc677a_640.png
END:VEVENT
BEGIN:VEVENT
DTSTART;TZID=America/Phoenix:20251221T093000
DTEND;TZID=America/Phoenix:20251221T100000
DTSTAMP:20260424T155331
CREATED:20251212T200212Z
LAST-MODIFIED:20251212T200212Z
UID:4011-1766309400-1766311200@stjohnswilliamsaz.org
SUMMARY:Weekly Church Choir Rehearsal
DESCRIPTION:The choir will be rehearsing two songs for Advent and a song for Christmas Eve Service.  Everyone is welcome to join our choir – you do not have to be a member of St. John’s to sing in our choir.  Everyone who enjoys making a joyful noise to the Lord is Welcome.  Our choir is for Junior high students through adults of all ages.
URL:https://stjohnswilliamsaz.org/event/weekly-church-choir-rehearsal-13/
LOCATION:St. John’s Episcopal-Lutheran Church\, 202 W Grant Ave.\, Williams\, AZ\, 86046\, United States
CATEGORIES:Church Choir Practice
ATTACH;FMTTYPE=image/png:https://stjohnswilliamsaz.org/wp-content/uploads/2021/10/choir-g885bc677a_640.png
END:VEVENT
BEGIN:VEVENT
DTSTART;TZID=America/Phoenix:20251207T093000
DTEND;TZID=America/Phoenix:20251207T100000
DTSTAMP:20260424T155331
CREATED:20251204T220424Z
LAST-MODIFIED:20251204T220424Z
UID:3988-1765099800-1765101600@stjohnswilliamsaz.org
SUMMARY:Weekly Church Choir Rehearsal
DESCRIPTION:The choir will be rehearsing two songs for Advent and a song for Christmas Eve Service.  Everyone is welcome to join our choir – you do not have to be a member of St. John’s to sing in our choir.  Everyone who enjoys making a joyful noise to the Lord is Welcome.  Our choir is for Junior high students through adults of all ages.
URL:https://stjohnswilliamsaz.org/event/weekly-church-choir-rehearsal-12/
LOCATION:St. John’s Episcopal-Lutheran Church\, 202 W Grant Ave.\, Williams\, AZ\, 86046\, United States
CATEGORIES:Church Choir Practice
ATTACH;FMTTYPE=image/png:https://stjohnswilliamsaz.org/wp-content/uploads/2021/10/choir-g885bc677a_640.png
END:VEVENT
BEGIN:VEVENT
DTSTART;TZID=America/Phoenix:20251130T093000
DTEND;TZID=America/Phoenix:20251130T100000
DTSTAMP:20260424T155331
CREATED:20251024T020539Z
LAST-MODIFIED:20251024T020539Z
UID:3891-1764495000-1764496800@stjohnswilliamsaz.org
SUMMARY:Weekly Church Choir Rehearsal
DESCRIPTION:Weekly church choir rehearsal is on Sunday morning before our worship service.  We will rehearse for 30 minutes.  We will begin learning some new pieces to share with the congregation during our church services.  Please bring your black binder each week to practice. \nWe welcome all singers from 6th grade on up!  Anyone who loves to sing is welcome to join us.  And you don’t need to be a member of St. John’s – just someone who loves to sing a joyful song to the Lord.
URL:https://stjohnswilliamsaz.org/event/church-choir-rehearsal-12/
LOCATION:St. John’s Episcopal-Lutheran Church\, 202 W Grant Ave.\, Williams\, AZ\, 86046\, United States
CATEGORIES:Church Choir Practice
ATTACH;FMTTYPE=image/png:https://stjohnswilliamsaz.org/wp-content/uploads/2021/10/choir-g885bc677a_640.png
END:VEVENT
BEGIN:VEVENT
DTSTART;TZID=America/Phoenix:20251123T093000
DTEND;TZID=America/Phoenix:20251123T100000
DTSTAMP:20260424T155331
CREATED:20251024T020337Z
LAST-MODIFIED:20251024T020337Z
UID:3889-1763890200-1763892000@stjohnswilliamsaz.org
SUMMARY:Weekly Church Choir Rehearsal
DESCRIPTION:Weekly church choir rehearsal is on Sunday morning before our worship service.  We will rehearse for 30 minutes.  We will begin learning some new pieces to share with the congregation during our church services.  Please bring your black binder each week to practice. \nWe welcome all singers from 6th grade on up!  Anyone who loves to sing is welcome to join us.  And you don’t need to be a member of St. John’s – just someone who loves to sing a joyful song to the Lord.
URL:https://stjohnswilliamsaz.org/event/weekly-church-choir-rehearsal-11/
LOCATION:St. John’s Episcopal-Lutheran Church\, 202 W Grant Ave.\, Williams\, AZ\, 86046\, United States
CATEGORIES:Church Choir Practice
ATTACH;FMTTYPE=image/png:https://stjohnswilliamsaz.org/wp-content/uploads/2021/10/choir-g885bc677a_640.png
END:VEVENT
BEGIN:VEVENT
DTSTART;TZID=America/Phoenix:20251116T093000
DTEND;TZID=America/Phoenix:20251116T100000
DTSTAMP:20260424T155331
CREATED:20251024T020138Z
LAST-MODIFIED:20251024T020138Z
UID:3887-1763285400-1763287200@stjohnswilliamsaz.org
SUMMARY:Weekly Church Choir Rehearsal
DESCRIPTION:Weekly church choir rehearsal is on Sunday morning before our worship service.  We will rehearse for 30 minutes.  We will begin learning some new pieces to share with the congregation during our church services.  Please bring your black binder each week to practice. \nWe welcome all singers from 6th grade on up!  Anyone who loves to sing is welcome to join us.  And you don’t need to be a member of St. John’s – just someone who loves to sing a joyful song to the Lord.
URL:https://stjohnswilliamsaz.org/event/weekly-church-choir-rehearsal-10/
LOCATION:St. John’s Episcopal-Lutheran Church\, 202 W Grant Ave.\, Williams\, AZ\, 86046\, United States
CATEGORIES:Church Choir Practice
ATTACH;FMTTYPE=image/png:https://stjohnswilliamsaz.org/wp-content/uploads/2021/10/choir-g885bc677a_640.png
END:VEVENT
BEGIN:VEVENT
DTSTART;TZID=America/Phoenix:20251109T093000
DTEND;TZID=America/Phoenix:20251109T100000
DTSTAMP:20260424T155331
CREATED:20251024T015959Z
LAST-MODIFIED:20251024T015959Z
UID:3885-1762680600-1762682400@stjohnswilliamsaz.org
SUMMARY:Weekly Church Choir Rehearsal
DESCRIPTION:Weekly church choir rehearsal is on Sunday morning before our worship service.  We will rehearse for 30 minutes.  We will begin learning some new pieces to share with the congregation during our church services.  Please bring your black binder each week to practice. \nWe welcome all singers from 6th grade on up!  Anyone who loves to sing is welcome to join us.  And you don’t need to be a member of St. John’s – just someone who loves to sing a joyful song to the Lord.
URL:https://stjohnswilliamsaz.org/event/weekly-church-choir-rehearsal-9/
LOCATION:St. John’s Episcopal-Lutheran Church\, 202 W Grant Ave.\, Williams\, AZ\, 86046\, United States
CATEGORIES:Church Choir Practice
ATTACH;FMTTYPE=image/png:https://stjohnswilliamsaz.org/wp-content/uploads/2021/10/choir-g885bc677a_640.png
END:VEVENT
BEGIN:VEVENT
DTSTART;TZID=America/Phoenix:20251102T093000
DTEND;TZID=America/Phoenix:20251102T100000
DTSTAMP:20260424T155331
CREATED:20251024T015807Z
LAST-MODIFIED:20251024T015807Z
UID:3883-1762075800-1762077600@stjohnswilliamsaz.org
SUMMARY:Weekly Church Choir Rehearsal
DESCRIPTION:Weekly church choir rehearsal is on Sunday morning before our worship service.  We will rehearse for 30 minutes.  We will begin learning some new pieces to share with the congregation during our church services.  Please bring your black binder each week to practice. \nWe welcome all singers from 6th grade on up!  Anyone who loves to sing is welcome to join us.  And you don’t need to be a member of St. John’s – just someone who loves to sing a joyful song to the Lord.
URL:https://stjohnswilliamsaz.org/event/weekly-church-choir-rehearsal-8/
LOCATION:St. John’s Episcopal-Lutheran Church\, 202 W Grant Ave.\, Williams\, AZ\, 86046\, United States
CATEGORIES:Church Choir Practice
ATTACH;FMTTYPE=image/png:https://stjohnswilliamsaz.org/wp-content/uploads/2021/10/choir-g885bc677a_640.png
END:VEVENT
BEGIN:VEVENT
DTSTART;TZID=America/Phoenix:20251026T093000
DTEND;TZID=America/Phoenix:20251026T100000
DTSTAMP:20260424T155331
CREATED:20251006T194729Z
LAST-MODIFIED:20251006T194729Z
UID:3843-1761471000-1761472800@stjohnswilliamsaz.org
SUMMARY:Weekly Church Choir Rehearsal
DESCRIPTION:Weekly church choir rehearsal is on Sunday morning before our worship service.  We will rehearse for 30 minutes.  We will begin learning some new pieces to share with the congregation during our church services.  Please bring your black binder each week to practice. \nWe welcome all singers from 6th grade on up!  Anyone who loves to sing is welcome to join us.  And you don’t need to be a member of St. John’s – just someone who loves to sing a joyful song to the Lord.
URL:https://stjohnswilliamsaz.org/event/weekly-church-choir-rehearsal-7/
LOCATION:St. John’s Episcopal-Lutheran Church\, 202 W Grant Ave.\, Williams\, AZ\, 86046\, United States
CATEGORIES:Church Choir Practice
ATTACH;FMTTYPE=image/png:https://stjohnswilliamsaz.org/wp-content/uploads/2021/10/choir-g885bc677a_640.png
END:VEVENT
END:VCALENDAR