BEGIN:VCALENDAR
VERSION:2.0
PRODID:-//St. John&#039;s Episcopal-Lutheran Church - ECPv6.15.20//NONSGML v1.0//EN
CALSCALE:GREGORIAN
METHOD:PUBLISH
X-ORIGINAL-URL:https://stjohnswilliamsaz.org
X-WR-CALDESC:Events for St. John&#039;s Episcopal-Lutheran Church
REFRESH-INTERVAL;VALUE=DURATION:PT1H
X-Robots-Tag:noindex
X-PUBLISHED-TTL:PT1H
BEGIN:VTIMEZONE
TZID:America/Phoenix
BEGIN:STANDARD
TZOFFSETFROM:-0700
TZOFFSETTO:-0700
TZNAME:MST
DTSTART:20250101T000000
END:STANDARD
END:VTIMEZONE
BEGIN:VEVENT
DTSTART;TZID=America/Phoenix:20260521T100000
DTEND;TZID=America/Phoenix:20260521T140000
DTSTAMP:20260424T161043
CREATED:20260311T034501Z
LAST-MODIFIED:20260401T220836Z
UID:4220-1779357600-1779372000@stjohnswilliamsaz.org
SUMMARY:Set-up for Rummage Sale
DESCRIPTION:Volunteers are needed to unpack and sort donated items for our annual rummage sale on May 22 and 23.  Many hands make fast work for this event.  And we have tons of fun doing it!  We typically start around 10 a.m. and we are done by 2 p.m.  If you can only come for an hour\, that’s fine.  If you can come from start to finish – that’s great\, too. \nThis is the day that donations can be accepted from the Williams community for this sale.  No furniture can be accepted!  But we can use CLEAN and GENTLY-USED household items\, clothing\, tools\, indoor and outdoor home decor\, blankets\, small household appliances\, collectibles\, children’s toys\, etc.
URL:https://stjohnswilliamsaz.org/event/set-up-for-rummage-sale/
LOCATION:St. John’s Episcopal-Lutheran Church\, 202 W Grant Ave.\, Williams\, AZ\, 86046\, United States
CATEGORIES:Rummage Sale
ATTACH;FMTTYPE=image/jpeg:https://stjohnswilliamsaz.org/wp-content/uploads/2022/09/4.jpg
END:VEVENT
END:VCALENDAR