BEGIN:VCALENDAR
VERSION:2.0
PRODID:-//St. John&#039;s Episcopal-Lutheran Church - ECPv6.15.20//NONSGML v1.0//EN
CALSCALE:GREGORIAN
METHOD:PUBLISH
X-WR-CALNAME:St. John&#039;s Episcopal-Lutheran Church
X-ORIGINAL-URL:https://stjohnswilliamsaz.org
X-WR-CALDESC:Events for St. John&#039;s Episcopal-Lutheran Church
REFRESH-INTERVAL;VALUE=DURATION:PT1H
X-Robots-Tag:noindex
X-PUBLISHED-TTL:PT1H
BEGIN:VTIMEZONE
TZID:America/Phoenix
BEGIN:STANDARD
TZOFFSETFROM:-0700
TZOFFSETTO:-0700
TZNAME:MST
DTSTART:20240101T000000
END:STANDARD
END:VTIMEZONE
BEGIN:VEVENT
DTSTART;TZID=America/Phoenix:20251026T114500
DTEND;TZID=America/Phoenix:20251026T120000
DTSTAMP:20260425T043503
CREATED:20251006T195501Z
LAST-MODIFIED:20251006T195501Z
UID:3845-1761479100-1761480000@stjohnswilliamsaz.org
SUMMARY:Hope Bags
DESCRIPTION:After the worship service\, we will gather in Walker Hall to put together the next batch of Hope Bags that are then taken to the Senior Center in Williams for distribution.  The Hope Bags contain hygiene products along with a pair of socks\, a wash cloth\, some fruit and a protein packet.  Please help us quickly put these together if you can stay a few extra minutes after the service.  Helping hands make this a quick process!
URL:https://stjohnswilliamsaz.org/event/hope-bags/
LOCATION:St. John’s Episcopal-Lutheran Church\, 202 W Grant Ave.\, Williams\, AZ\, 86046\, United States
CATEGORIES:Special events
ATTACH;FMTTYPE=image/jpeg:https://stjohnswilliamsaz.org/wp-content/uploads/2025/02/hand-in-hand-1686811_640.jpg
END:VEVENT
END:VCALENDAR