BEGIN:VCALENDAR
VERSION:2.0
PRODID:-//St. John&#039;s Episcopal-Lutheran Church - ECPv6.15.20//NONSGML v1.0//EN
CALSCALE:GREGORIAN
METHOD:PUBLISH
X-WR-CALNAME:St. John&#039;s Episcopal-Lutheran Church
X-ORIGINAL-URL:https://stjohnswilliamsaz.org
X-WR-CALDESC:Events for St. John&#039;s Episcopal-Lutheran Church
REFRESH-INTERVAL;VALUE=DURATION:PT1H
X-Robots-Tag:noindex
X-PUBLISHED-TTL:PT1H
BEGIN:VTIMEZONE
TZID:America/Phoenix
BEGIN:STANDARD
TZOFFSETFROM:-0700
TZOFFSETTO:-0700
TZNAME:MST
DTSTART:20240101T000000
END:STANDARD
END:VTIMEZONE
BEGIN:VEVENT
DTSTART;TZID=America/Phoenix:20251113T120000
DTEND;TZID=America/Phoenix:20251113T130000
DTSTAMP:20260425T034613
CREATED:20251030T204336Z
LAST-MODIFIED:20251030T204336Z
UID:3924-1763035200-1763038800@stjohnswilliamsaz.org
SUMMARY:Healing Service
DESCRIPTION:We will hold our next Healing Service for anyone in need of healing (physical\, spiritual\, mental\, etc.). This service is open to all in the community who are in need of any type of healing and spiritual comfort. You may also with to attend for someone you know who is in need of healing.  This service is also open to those who may not be able to worship with us on Sunday mornings\, and would like to attend a service with Communion.
URL:https://stjohnswilliamsaz.org/event/healing-service-3/
LOCATION:St. John’s Episcopal-Lutheran Church\, 202 W Grant Ave.\, Williams\, AZ\, 86046\, United States
CATEGORIES:Special church services
ATTACH;FMTTYPE=image/jpeg:https://stjohnswilliamsaz.org/wp-content/uploads/2024/06/prayer-together-5928481_640.jpg
END:VEVENT
BEGIN:VEVENT
DTSTART;TZID=America/Phoenix:20251113T090000
DTEND;TZID=America/Phoenix:20251113T100000
DTSTAMP:20260425T034613
CREATED:20251030T203312Z
LAST-MODIFIED:20251030T203312Z
UID:3916-1763024400-1763028000@stjohnswilliamsaz.org
SUMMARY:Book Study Group
DESCRIPTION:The group is open to anyone in the community.  The book will be passed out to everyone who comes\, who would like to read the book and discuss it together with the group over the coming weeks.  The book is Good Soil: The Education of an Accidental Farmhand\, by Jeff Chu.  The book study group meets weekly in Walker Hall.
URL:https://stjohnswilliamsaz.org/event/book-study-group-9/
LOCATION:St. John’s Episcopal-Lutheran Church\, 202 W Grant Ave.\, Williams\, AZ\, 86046\, United States
CATEGORIES:Weekly Book Study
ATTACH;FMTTYPE=image/jpeg:https://stjohnswilliamsaz.org/wp-content/uploads/2025/09/Good-soil.jpeg
END:VEVENT
BEGIN:VEVENT
DTSTART;TZID=America/Phoenix:20251112T160000
DTEND;TZID=America/Phoenix:20251112T170000
DTSTAMP:20260425T034613
CREATED:20251030T204745Z
LAST-MODIFIED:20251106T030357Z
UID:3926-1762963200-1762966800@stjohnswilliamsaz.org
SUMMARY:Lessons and Carols Choir Rehearsal
DESCRIPTION:The community Lessons and Carols Choir rehearsals begin at 4:00 pm\, and will last about 60 minutes.  We meet weekly\, except for the Wednesday (the day before) prior to Thanksgiving.  The choir is open to everyone in the community who loves to sing beautiful Advent and Christmas music\, set to a series of readings that are read by local clergy and lay readers from different churches in Williams and the vicinity. \nYou do not need to read music if you have the ability to learn and memorize your parts.  We do sing in 4 parts: soprano\, alto\, tenor and bass.  Beth LaGro\, the accompanist and organizer for this service\, is always happy to work privately with anyone who needs assistance learning their part. \nWe understand that no one is going to be able to make it to every weekly rehearsal\, but we do expect you to make it to most of the rehearsals. \nShaula Watson will be directing the choir for the second time this year. \nThe Lessons and Carols service will be held on December 7th at 3:30 pm at St. John’s. \nIf you have any questions or concerns about the service\, please write to Beth at info@stjohnswilliamsaz.org
URL:https://stjohnswilliamsaz.org/event/lessons-and-carols-choir-rehearsal-9/
LOCATION:St. John’s Episcopal-Lutheran Church\, 202 W Grant Ave.\, Williams\, AZ\, 86046\, United States
CATEGORIES:Lessons and Carols
ATTACH;FMTTYPE=image/jpeg:https://stjohnswilliamsaz.org/wp-content/uploads/2024/12/Choir_7.jpg
END:VEVENT
BEGIN:VEVENT
DTSTART;TZID=America/Phoenix:20251109T093000
DTEND;TZID=America/Phoenix:20251109T100000
DTSTAMP:20260425T034613
CREATED:20251024T015959Z
LAST-MODIFIED:20251024T015959Z
UID:3885-1762680600-1762682400@stjohnswilliamsaz.org
SUMMARY:Weekly Church Choir Rehearsal
DESCRIPTION:Weekly church choir rehearsal is on Sunday morning before our worship service.  We will rehearse for 30 minutes.  We will begin learning some new pieces to share with the congregation during our church services.  Please bring your black binder each week to practice. \nWe welcome all singers from 6th grade on up!  Anyone who loves to sing is welcome to join us.  And you don’t need to be a member of St. John’s – just someone who loves to sing a joyful song to the Lord.
URL:https://stjohnswilliamsaz.org/event/weekly-church-choir-rehearsal-9/
LOCATION:St. John’s Episcopal-Lutheran Church\, 202 W Grant Ave.\, Williams\, AZ\, 86046\, United States
CATEGORIES:Church Choir Practice
ATTACH;FMTTYPE=image/png:https://stjohnswilliamsaz.org/wp-content/uploads/2021/10/choir-g885bc677a_640.png
END:VEVENT
BEGIN:VEVENT
DTSTART;TZID=America/Phoenix:20251106T130000
DTEND;TZID=America/Phoenix:20251106T150000
DTSTAMP:20260425T034613
CREATED:20251102T021426Z
LAST-MODIFIED:20251102T021641Z
UID:3935-1762434000-1762441200@stjohnswilliamsaz.org
SUMMARY:Bishop's Committee Meeting
DESCRIPTION:The Bishop’s Committee will meet in Walker Hall on Thursday to review many agenda items.
URL:https://stjohnswilliamsaz.org/event/bishops-committee-meeting-3/
LOCATION:St. John’s Episcopal-Lutheran Church\, 202 W Grant Ave.\, Williams\, AZ\, 86046\, United States
CATEGORIES:Meetings
ATTACH;FMTTYPE=image/png:https://stjohnswilliamsaz.org/wp-content/uploads/2024/01/group-1962592_640-meeting.png
END:VEVENT
BEGIN:VEVENT
DTSTART;TZID=America/Phoenix:20251106T120000
DTEND;TZID=America/Phoenix:20251106T130000
DTSTAMP:20260425T034613
CREATED:20251030T203901Z
LAST-MODIFIED:20251030T203901Z
UID:3920-1762430400-1762434000@stjohnswilliamsaz.org
SUMMARY:Bi-weekly Bible Study
DESCRIPTION:Fr. Phil Shaw is beginning a new adult Bible study program.   The Bible Study will be held on the 1st and 3rd Thursdays of the month at noon for an hour.  The study will begin with a discussion of the daily lectionary\, but when Advent begins\, Fr. Shaw will begin a special Bible study for the Advent season.  All are welcome!!
URL:https://stjohnswilliamsaz.org/event/bi-weekly-bible-study-3/
LOCATION:St. John’s Episcopal-Lutheran Church\, 202 W Grant Ave.\, Williams\, AZ\, 86046\, United States
CATEGORIES:Bible Study
ATTACH;FMTTYPE=image/jpeg:https://stjohnswilliamsaz.org/wp-content/uploads/2017/11/bible-1149924_640.jpg
END:VEVENT
BEGIN:VEVENT
DTSTART;TZID=America/Phoenix:20251106T090000
DTEND;TZID=America/Phoenix:20251106T100000
DTSTAMP:20260425T034613
CREATED:20251030T203127Z
LAST-MODIFIED:20251030T203127Z
UID:3914-1762419600-1762423200@stjohnswilliamsaz.org
SUMMARY:Book Study Group
DESCRIPTION:The group is open to anyone in the community.  The book will be passed out to everyone who comes\, who would like to read the book and discuss it together with the group over the coming weeks.  The book is Good Soil: The Education of an Accidental Farmhand\, by Jeff Chu.  The book study group meets weekly in Walker Hall.
URL:https://stjohnswilliamsaz.org/event/book-study-group-8/
LOCATION:St. John’s Episcopal-Lutheran Church\, 202 W Grant Ave.\, Williams\, AZ\, 86046\, United States
CATEGORIES:Weekly Book Study
ATTACH;FMTTYPE=image/jpeg:https://stjohnswilliamsaz.org/wp-content/uploads/2025/09/Good-soil.jpeg
END:VEVENT
BEGIN:VEVENT
DTSTART;TZID=America/Phoenix:20251105T163000
DTEND;TZID=America/Phoenix:20251105T171500
DTSTAMP:20260425T034613
CREATED:20251024T021059Z
LAST-MODIFIED:20251024T021059Z
UID:3893-1762360200-1762362900@stjohnswilliamsaz.org
SUMMARY:Lessons and Carols Choir Rehearsal
DESCRIPTION:The community Lessons and Carols Choir rehearsals begin at 4:30 pm\, and will last about 45 minutes.  We meet weekly\, except for the Wednesday (the day before) prior to Thanksgiving.  The choir is open to everyone in the community who loves to sing beautiful Advent and Christmas music\, set to a series of readings that are read by local clergy and lay readers from different churches in Williams and the vicinity. \nYou do not need to read music if you have the ability to learn and memorize your parts.  We do sing in 4 parts: soprano\, alto\, tenor and bass.  Beth LaGro\, the accompanist and organizer for this service\, is always happy to work privately with anyone who needs assistance learning their part. \nWe understand that no one is going to be able to make it to every weekly rehearsal\, but we do expect you to make it to most of the rehearsals. \nShaula Watson will be directing the choir for the second time this year. \nThe Lessons and Carols service will be held on December 7th at 3:30 pm at St. John’s. \nIf you have any questions or concerns about the service\, please write to Beth at info@stjohnswilliamsaz.org
URL:https://stjohnswilliamsaz.org/event/lessons-carols-choir-rehearsal-9/
LOCATION:St. John’s Episcopal-Lutheran Church\, 202 W Grant Ave.\, Williams\, AZ\, 86046\, United States
CATEGORIES:Lessons and Carols
ATTACH;FMTTYPE=image/jpeg:https://stjohnswilliamsaz.org/wp-content/uploads/2024/12/Choir_7.jpg
END:VEVENT
BEGIN:VEVENT
DTSTART;TZID=America/Phoenix:20251102T093000
DTEND;TZID=America/Phoenix:20251102T100000
DTSTAMP:20260425T034613
CREATED:20251024T015807Z
LAST-MODIFIED:20251024T015807Z
UID:3883-1762075800-1762077600@stjohnswilliamsaz.org
SUMMARY:Weekly Church Choir Rehearsal
DESCRIPTION:Weekly church choir rehearsal is on Sunday morning before our worship service.  We will rehearse for 30 minutes.  We will begin learning some new pieces to share with the congregation during our church services.  Please bring your black binder each week to practice. \nWe welcome all singers from 6th grade on up!  Anyone who loves to sing is welcome to join us.  And you don’t need to be a member of St. John’s – just someone who loves to sing a joyful song to the Lord.
URL:https://stjohnswilliamsaz.org/event/weekly-church-choir-rehearsal-8/
LOCATION:St. John’s Episcopal-Lutheran Church\, 202 W Grant Ave.\, Williams\, AZ\, 86046\, United States
CATEGORIES:Church Choir Practice
ATTACH;FMTTYPE=image/png:https://stjohnswilliamsaz.org/wp-content/uploads/2021/10/choir-g885bc677a_640.png
END:VEVENT
BEGIN:VEVENT
DTSTART;TZID=America/Phoenix:20251030T090000
DTEND;TZID=America/Phoenix:20251030T100000
DTSTAMP:20260425T034613
CREATED:20251001T043834Z
LAST-MODIFIED:20251001T043834Z
UID:3831-1761814800-1761818400@stjohnswilliamsaz.org
SUMMARY:Book Study Group
DESCRIPTION:The group is open to anyone in the community.  The book will be passed out to everyone who comes\, who would like to read the book and discuss it together with the group over the coming weeks.  The book is Good Soil: The Education of an Accidental Farmhand\, by Jeff Chu.  The book study group meets weekly in Walker Hall.
URL:https://stjohnswilliamsaz.org/event/book-study-group-6/
LOCATION:St. John’s Episcopal-Lutheran Church\, 202 W Grant Ave.\, Williams\, AZ\, 86046\, United States
CATEGORIES:Weekly Book Study
ATTACH;FMTTYPE=image/jpeg:https://stjohnswilliamsaz.org/wp-content/uploads/2025/09/Good-soil.jpeg
END:VEVENT
BEGIN:VEVENT
DTSTART;TZID=America/Phoenix:20251029T163000
DTEND;TZID=America/Phoenix:20251029T171500
DTSTAMP:20260425T034613
CREATED:20251001T043235Z
LAST-MODIFIED:20251001T043235Z
UID:3825-1761755400-1761758100@stjohnswilliamsaz.org
SUMMARY:Lessons and Carols Choir Rehearsal
DESCRIPTION:The community Lessons and Carols Choir rehearsals begin at 4:30 pm\, and will last about 45 minutes.  We meet weekly\, except for the Wednesday (the day before) prior to Thanksgiving.  The choir is open to everyone in the community who loves to sing beautiful Advent and Christmas music\, set to a series of readings that are read by local clergy and lay readers from different churches in Williams and the vicinity. \nYou do not need to read music if you have the ability to learn and memorize your parts.  We do sing in 4 parts: soprano\, alto\, tenor and bass.  Beth LaGro\, the accompanist and organizer for this service\, is always happy to work privately with anyone who needs assistance learning their part. \nWe understand that no one is going to be able to make it to every weekly rehearsal\, but we do expect you to make it to most of the rehearsals. \nShaula Watson will be directing the choir for the second time this year. \nThe Lessons and Carols service will be held on December 7th at 3:30 pm at St. John’s. \nIf you have any questions or concerns about the service\, please write to Beth at info@stjohnswilliamsaz.org
URL:https://stjohnswilliamsaz.org/event/lessons-and-carols-choir-rehearsal-8/
LOCATION:St. John’s Episcopal-Lutheran Church\, 202 W Grant Ave.\, Williams\, AZ\, 86046\, United States
CATEGORIES:Lessons and Carols
ATTACH;FMTTYPE=image/jpeg:https://stjohnswilliamsaz.org/wp-content/uploads/2024/12/Choir_7.jpg
END:VEVENT
BEGIN:VEVENT
DTSTART;TZID=America/Phoenix:20251026T114500
DTEND;TZID=America/Phoenix:20251026T120000
DTSTAMP:20260425T034613
CREATED:20251006T195501Z
LAST-MODIFIED:20251006T195501Z
UID:3845-1761479100-1761480000@stjohnswilliamsaz.org
SUMMARY:Hope Bags
DESCRIPTION:After the worship service\, we will gather in Walker Hall to put together the next batch of Hope Bags that are then taken to the Senior Center in Williams for distribution.  The Hope Bags contain hygiene products along with a pair of socks\, a wash cloth\, some fruit and a protein packet.  Please help us quickly put these together if you can stay a few extra minutes after the service.  Helping hands make this a quick process!
URL:https://stjohnswilliamsaz.org/event/hope-bags/
LOCATION:St. John’s Episcopal-Lutheran Church\, 202 W Grant Ave.\, Williams\, AZ\, 86046\, United States
CATEGORIES:Special events
ATTACH;FMTTYPE=image/jpeg:https://stjohnswilliamsaz.org/wp-content/uploads/2025/02/hand-in-hand-1686811_640.jpg
END:VEVENT
BEGIN:VEVENT
DTSTART;TZID=America/Phoenix:20251026T093000
DTEND;TZID=America/Phoenix:20251026T100000
DTSTAMP:20260425T034613
CREATED:20251006T194729Z
LAST-MODIFIED:20251006T194729Z
UID:3843-1761471000-1761472800@stjohnswilliamsaz.org
SUMMARY:Weekly Church Choir Rehearsal
DESCRIPTION:Weekly church choir rehearsal is on Sunday morning before our worship service.  We will rehearse for 30 minutes.  We will begin learning some new pieces to share with the congregation during our church services.  Please bring your black binder each week to practice. \nWe welcome all singers from 6th grade on up!  Anyone who loves to sing is welcome to join us.  And you don’t need to be a member of St. John’s – just someone who loves to sing a joyful song to the Lord.
URL:https://stjohnswilliamsaz.org/event/weekly-church-choir-rehearsal-7/
LOCATION:St. John’s Episcopal-Lutheran Church\, 202 W Grant Ave.\, Williams\, AZ\, 86046\, United States
CATEGORIES:Church Choir Practice
ATTACH;FMTTYPE=image/png:https://stjohnswilliamsaz.org/wp-content/uploads/2021/10/choir-g885bc677a_640.png
END:VEVENT
BEGIN:VEVENT
DTSTART;TZID=America/Phoenix:20251025T100000
DTEND;TZID=America/Phoenix:20251025T110000
DTSTAMP:20260425T034613
CREATED:20251001T035527Z
LAST-MODIFIED:20251001T040158Z
UID:3817-1761386400-1761390000@stjohnswilliamsaz.org
SUMMARY:Community Information Meeting on Community Memorial Garden
DESCRIPTION:There will be a community information meeting to provide interested persons on the different parts of the Community Memorial Garden: the Columbarium (niches that will hold up to two cremated remains)\, the Memorial Wall (plaques remembering a deceased loved one) and Honor bricks that recognize a special event date (weddings\, baptisms\, births\, etc.)\, which will line the entrance walkway into the garden.  The Memorial Garden is open to the Community of Williams and the surrounding areas.  The Columbarium niches\, Memorial Plaques\, and Honor Bricks will be available for purchase starting October 23\, 2025 and into the future.  This meeting will be held in Walker Hall at St. John’s Church in Williams\, AZ.
URL:https://stjohnswilliamsaz.org/event/community-information-meeting-memorial-garden-2/
LOCATION:St. John’s Episcopal-Lutheran Church\, 202 W Grant Ave.\, Williams\, AZ\, 86046\, United States
CATEGORIES:Meetings
ATTACH;FMTTYPE=image/jpeg:https://stjohnswilliamsaz.org/wp-content/uploads/2025/09/columbarium-memorial-garden-gate-e1759291305984.jpg
END:VEVENT
END:VCALENDAR