BEGIN:VCALENDAR
VERSION:2.0
PRODID:-//St. John&#039;s Episcopal-Lutheran Church - ECPv6.15.20//NONSGML v1.0//EN
CALSCALE:GREGORIAN
METHOD:PUBLISH
X-WR-CALNAME:St. John&#039;s Episcopal-Lutheran Church
X-ORIGINAL-URL:https://stjohnswilliamsaz.org
X-WR-CALDESC:Events for St. John&#039;s Episcopal-Lutheran Church
REFRESH-INTERVAL;VALUE=DURATION:PT1H
X-Robots-Tag:noindex
X-PUBLISHED-TTL:PT1H
BEGIN:VTIMEZONE
TZID:America/Phoenix
BEGIN:STANDARD
TZOFFSETFROM:-0700
TZOFFSETTO:-0700
TZNAME:MST
DTSTART:20250101T000000
END:STANDARD
END:VTIMEZONE
BEGIN:VEVENT
DTSTART;TZID=America/Phoenix:20260325T173000
DTEND;TZID=America/Phoenix:20260325T190000
DTSTAMP:20260425T062050
CREATED:20260221T211751Z
LAST-MODIFIED:20260221T211751Z
UID:4182-1774459800-1774465200@stjohnswilliamsaz.org
SUMMARY:Lenten Soup Dinner and Evening Prayer Service
DESCRIPTION:Join us for a homemade soup dinner (with bread and beverages) followed by an Evening Prayer service in the sanctuary.  We will meet each Wednesday during Lent (except for Holy Week) to have dinner together followed by a time or worship and prayer.
URL:https://stjohnswilliamsaz.org/event/lenten-soup-dinner-and-evening-prayer-service-4/
LOCATION:St. John’s Episcopal-Lutheran Church\, 202 W Grant Ave.\, Williams\, AZ\, 86046\, United States
CATEGORIES:Lenten Services
ATTACH;FMTTYPE=image/jpeg:https://stjohnswilliamsaz.org/wp-content/uploads/2019/02/soup-bowl-425168_640.jpg
ORGANIZER;CN="Rev. Geroge Barcus":MAILTO:pastorgeorge@cumcw.org
END:VEVENT
BEGIN:VEVENT
DTSTART;TZID=America/Phoenix:20260326T120000
DTEND;TZID=America/Phoenix:20260326T124500
DTSTAMP:20260425T062050
CREATED:20260221T205606Z
LAST-MODIFIED:20260221T205606Z
UID:4166-1774526400-1774529100@stjohnswilliamsaz.org
SUMMARY:Healing Service
DESCRIPTION:We will hold a Healing Service for anyone in need of healing (physical\, spiritual\, mental\, etc.). This service is open to all in the community who are in need of any type of healing and spiritual comfort. You may also with to attend for someone you know who is in need of healing.  This service is also open to those who may not be able to worship with us on Sunday mornings\, and would like to attend a service with Communion.
URL:https://stjohnswilliamsaz.org/event/healing-service-9/
LOCATION:St. John’s Episcopal-Lutheran Church\, 202 W Grant Ave.\, Williams\, AZ\, 86046\, United States
CATEGORIES:Special church services
ATTACH;FMTTYPE=image/jpeg:https://stjohnswilliamsaz.org/wp-content/uploads/2024/06/prayer-together-5928481_640.jpg
END:VEVENT
BEGIN:VEVENT
DTSTART;TZID=America/Phoenix:20260326T130000
DTEND;TZID=America/Phoenix:20260326T140000
DTSTAMP:20260425T062050
CREATED:20260221T210216Z
LAST-MODIFIED:20260221T210216Z
UID:4172-1774530000-1774533600@stjohnswilliamsaz.org
SUMMARY:Bible Study
DESCRIPTION:Fr. Shaw is has leads a Bible Study class twice a month.  The class will begin at 1 pm\, after the Healing Service.  All are welcome.  You do not need to be a member of St. John’s to join in.  Class meets in Walker Hall.
URL:https://stjohnswilliamsaz.org/event/bible-study-6/
LOCATION:St. John’s Episcopal-Lutheran Church\, 202 W Grant Ave.\, Williams\, AZ\, 86046\, United States
CATEGORIES:Bible Study
ATTACH;FMTTYPE=image/jpeg:https://stjohnswilliamsaz.org/wp-content/uploads/2017/11/bible-1149924_640.jpg
END:VEVENT
BEGIN:VEVENT
DTSTART;TZID=America/Phoenix:20260329T093000
DTEND;TZID=America/Phoenix:20260329T100000
DTSTAMP:20260425T062050
CREATED:20260311T000419Z
LAST-MODIFIED:20260311T000419Z
UID:4208-1774776600-1774778400@stjohnswilliamsaz.org
SUMMARY:Weekly Church Choir Rehearsal
DESCRIPTION:The choir will be rehearsing a song for Easter.  Everyone is welcome to join our choir – you do not have to be a member of St. John’s to sing.  Everyone who enjoys making a joyful noise to the Lord is Welcome.  Our choir is for Junior/middle high students through adults of all ages.
URL:https://stjohnswilliamsaz.org/event/weekly-church-choir-rehearsal-23/
LOCATION:St. John’s Episcopal-Lutheran Church\, 202 W Grant Ave.\, Williams\, AZ\, 86046\, United States
CATEGORIES:Church Choir Practice
ATTACH;FMTTYPE=image/png:https://stjohnswilliamsaz.org/wp-content/uploads/2021/10/choir-g885bc677a_640.png
END:VEVENT
BEGIN:VEVENT
DTSTART;TZID=America/Phoenix:20260331T100000
DTEND;TZID=America/Phoenix:20260331T110000
DTSTAMP:20260425T062050
CREATED:20260311T031907Z
LAST-MODIFIED:20260311T031907Z
UID:4216-1774951200-1774954800@stjohnswilliamsaz.org
SUMMARY:Book Study Group
DESCRIPTION:The book study group is open to anyone in the community.  The book will be provided to everyone who comes\, who would like to read the book and discuss it together with the group over the coming weeks.  The book is Good Soil: The Education of an Accidental Farmhand\, by Jeff Chu.  The book study group meets weekly in Walker Hall.
URL:https://stjohnswilliamsaz.org/event/book-study-group-25/
LOCATION:St. John’s Episcopal-Lutheran Church\, 202 W Grant Ave.\, Williams\, AZ\, 86046\, United States
CATEGORIES:Weekly Book Study
ATTACH;FMTTYPE=image/jpeg:https://stjohnswilliamsaz.org/wp-content/uploads/2025/09/Good-soil.jpeg
END:VEVENT
BEGIN:VEVENT
DTSTART;TZID=America/Phoenix:20260405T093000
DTEND;TZID=America/Phoenix:20260405T100000
DTSTAMP:20260425T062050
CREATED:20260311T000629Z
LAST-MODIFIED:20260311T000629Z
UID:4210-1775381400-1775383200@stjohnswilliamsaz.org
SUMMARY:Weekly Church Choir Rehearsal
DESCRIPTION:The choir will be rehearsing a song for Easter service.  Everyone is welcome to join our choir – you do not have to be a member of St. John’s to sing.  Everyone who enjoys making a joyful noise to the Lord is Welcome.  Our choir is for Junior/middle high students through adults of all ages.
URL:https://stjohnswilliamsaz.org/event/weekly-church-choir-rehearsal-24/
LOCATION:St. John’s Episcopal-Lutheran Church\, 202 W Grant Ave.\, Williams\, AZ\, 86046\, United States
CATEGORIES:Church Choir Practice
ATTACH;FMTTYPE=image/png:https://stjohnswilliamsaz.org/wp-content/uploads/2021/10/choir-g885bc677a_640.png
END:VEVENT
BEGIN:VEVENT
DTSTART;TZID=America/Phoenix:20260407T100000
DTEND;TZID=America/Phoenix:20260407T120000
DTSTAMP:20260425T062050
CREATED:20260401T213042Z
LAST-MODIFIED:20260401T213509Z
UID:4264-1775556000-1775563200@stjohnswilliamsaz.org
SUMMARY:Book Study Group
DESCRIPTION:The book study group is open to anyone in the community.  The book will be provided to everyone who comes\, who would like to read the book and discuss it together with the group this month.  The book is Good Soil: The Education of an Accidental Farmhand\, by Jeff Chu.  The book study group meets weekly in Walker Hall.  This week we will meet for the first hour to view a zoom video on psalmody – how temporary composers and song writers have used the Psalms in their music (e.g.\, Leonard Bernstein\, Paul Simon and John Coltrane).  Then we will move to the sanctuary to hold our book discussion.
URL:https://stjohnswilliamsaz.org/event/book-study-group/
LOCATION:St. John’s Episcopal-Lutheran Church\, 202 W Grant Ave.\, Williams\, AZ\, 86046\, United States
CATEGORIES:Weekly Book Study
ATTACH;FMTTYPE=image/jpeg:https://stjohnswilliamsaz.org/wp-content/uploads/2025/09/Good-soil.jpeg
END:VEVENT
BEGIN:VEVENT
DTSTART;TZID=America/Phoenix:20260409T120000
DTEND;TZID=America/Phoenix:20260409T124500
DTSTAMP:20260425T062050
CREATED:20260401T221153Z
LAST-MODIFIED:20260401T221153Z
UID:4286-1775736000-1775738700@stjohnswilliamsaz.org
SUMMARY:Healing Service
DESCRIPTION:We will hold a Healing Service for anyone in need of healing (physical\, spiritual\, mental\, etc.). This service is open to all in the community who are in need of any type of healing and spiritual comfort. You may also with to attend for someone you know who is in need of healing.  This service is also open to those who may not be able to worship with us on Sunday mornings\, and would like to attend a service with Communion.
URL:https://stjohnswilliamsaz.org/event/healing-service/
LOCATION:St. John’s Episcopal-Lutheran Church\, 202 W Grant Ave.\, Williams\, AZ\, 86046\, United States
CATEGORIES:Special church services
ATTACH;FMTTYPE=image/jpeg:https://stjohnswilliamsaz.org/wp-content/uploads/2024/06/prayer-together-5928481_640.jpg
END:VEVENT
BEGIN:VEVENT
DTSTART;TZID=America/Phoenix:20260412T093000
DTEND;TZID=America/Phoenix:20260412T100000
DTSTAMP:20260425T062050
CREATED:20260401T214511Z
LAST-MODIFIED:20260401T214511Z
UID:4272-1775986200-1775988000@stjohnswilliamsaz.org
SUMMARY:Weekly Church Choir Rehearsal
DESCRIPTION:Everyone is welcome to join our choir – you do not have to be a member of St. John’s to sing.  Everyone who enjoys making a joyful noise to the Lord is Welcome.  Our choir is for Junior/middle high students through adults of all ages.  We will be working on anthems to be sung in April and May.
URL:https://stjohnswilliamsaz.org/event/weekly-church-choir-rehearsal-2/
LOCATION:St. John’s Episcopal-Lutheran Church\, 202 W Grant Ave.\, Williams\, AZ\, 86046\, United States
CATEGORIES:Church Choir Practice
ATTACH;FMTTYPE=image/png:https://stjohnswilliamsaz.org/wp-content/uploads/2021/10/choir-g885bc677a_640.png
END:VEVENT
BEGIN:VEVENT
DTSTART;TZID=America/Phoenix:20260413T130000
DTEND;TZID=America/Phoenix:20260413T150000
DTSTAMP:20260425T062050
CREATED:20260410T023739Z
LAST-MODIFIED:20260410T023739Z
UID:4296-1776085200-1776092400@stjohnswilliamsaz.org
SUMMARY:Bishop's Committee Meeting
DESCRIPTION:The Bishop’s Committee will hold their monthly meeting on April 13th at 1 PM in Walker Hall.  The Committee will discuss safety issues\, a visit by the Grace Lutheran church’s youth group (Kingman)\, repairs to the church\, and many other important topics.
URL:https://stjohnswilliamsaz.org/event/bishops-committee-meeting-2/
LOCATION:St. John’s Episcopal-Lutheran Church\, 202 W Grant Ave.\, Williams\, AZ\, 86046\, United States
CATEGORIES:Meetings
ATTACH;FMTTYPE=image/png:https://stjohnswilliamsaz.org/wp-content/uploads/2024/01/group-1962592_640-meeting.png
END:VEVENT
BEGIN:VEVENT
DTSTART;TZID=America/Phoenix:20260414T100000
DTEND;TZID=America/Phoenix:20260414T110000
DTSTAMP:20260425T062050
CREATED:20260401T213242Z
LAST-MODIFIED:20260401T214100Z
UID:4266-1776160800-1776164400@stjohnswilliamsaz.org
SUMMARY:Book Study Group
DESCRIPTION:The book study group is open to anyone in the community.  The book will be provided to everyone who comes\, who would like to read the book and discuss it together with the group this month.  The book is Good Soil: The Education of an Accidental Farmhand\, by Jeff Chu.  The book study group meets weekly in Walker Hall.
URL:https://stjohnswilliamsaz.org/event/book-study-group-2/
LOCATION:St. John’s Episcopal-Lutheran Church\, 202 W Grant Ave.\, Williams\, AZ\, 86046\, United States
CATEGORIES:Weekly Book Study
ATTACH;FMTTYPE=image/jpeg:https://stjohnswilliamsaz.org/wp-content/uploads/2025/09/Good-soil.jpeg
END:VEVENT
BEGIN:VEVENT
DTSTART;TZID=America/Phoenix:20260419T093000
DTEND;TZID=America/Phoenix:20260419T100000
DTSTAMP:20260425T062050
CREATED:20260401T214740Z
LAST-MODIFIED:20260401T214740Z
UID:4274-1776591000-1776592800@stjohnswilliamsaz.org
SUMMARY:Weekly Church Choir Rehearsal
DESCRIPTION:Everyone is welcome to join our choir – you do not have to be a member of St. John’s to sing.  Everyone who enjoys making a joyful noise to the Lord is Welcome.  Our choir is for Junior/middle high students through adults of all ages.  We will be working on anthems to be sung in April and May.
URL:https://stjohnswilliamsaz.org/event/weekly-church-choir-rehearsal-3/
LOCATION:St. John’s Episcopal-Lutheran Church\, 202 W Grant Ave.\, Williams\, AZ\, 86046\, United States
CATEGORIES:Church Choir Practice
ATTACH;FMTTYPE=image/png:https://stjohnswilliamsaz.org/wp-content/uploads/2021/10/choir-g885bc677a_640.png
END:VEVENT
BEGIN:VEVENT
DTSTART;TZID=America/Phoenix:20260423T120000
DTEND;TZID=America/Phoenix:20260423T124500
DTSTAMP:20260425T062050
CREATED:20260401T221418Z
LAST-MODIFIED:20260423T180841Z
UID:4288-1776945600-1776948300@stjohnswilliamsaz.org
SUMMARY:Healing Service
DESCRIPTION:We will hold a Healing Service for anyone in need of healing (physical\, spiritual\, mental\, etc.). This service is open to all in the community who are in need of any type of healing and spiritual comfort. You may also with to attend for someone you know who is in need of healing.  This service is also open to those who may not be able to worship with us on Sunday mornings\, and would like to attend a service with Communion.
URL:https://stjohnswilliamsaz.org/event/healing-service-10/
LOCATION:St. John’s Episcopal-Lutheran Church\, 202 W Grant Ave.\, Williams\, AZ\, 86046\, United States
CATEGORIES:Special church services
ATTACH;FMTTYPE=image/jpeg:https://stjohnswilliamsaz.org/wp-content/uploads/2024/06/prayer-together-5928481_640.jpg
END:VEVENT
BEGIN:VEVENT
DTSTART;TZID=America/Phoenix:20260425T080000
DTEND;TZID=America/Phoenix:20260425T170000
DTSTAMP:20260425T062050
CREATED:20260106T041336Z
LAST-MODIFIED:20260106T041336Z
UID:4055-1777104000-1777136400@stjohnswilliamsaz.org
SUMMARY:Discipleship Days - Prescott
DESCRIPTION:2026 Discipleship Days are 1-day\, in-person gatherings to help you learn\, inspire\, and connect. We are hosting 3 days: one in Phoenix\, one in Tucson\, and one in Prescott. You do not have to participate in all 3 days; each day is catered to meet the needs of leaders in those geographic areas. \nLunch will be provided\, and childcare is available upon request. Registration for this event is $30 per person. \nThis event is open to all lay leaders and clergy within the diocese. \nWho should come to the Discipleship Days? \nAnyone who wants to grow in their faith and has a ministry of leadership in a congregation. That includes clergy and laypeople! \nMore information is coming soon.
URL:https://stjohnswilliamsaz.org/event/discipleship-days-prescott/
LOCATION:St. Luke’s Episcopal Church\, 2000 Shepherds Lane\, Prescott\, AZ\, 86301
CATEGORIES:Meetings
ATTACH;FMTTYPE=image/png:https://stjohnswilliamsaz.org/wp-content/uploads/2026/01/Discipleship-Days-Logo-1-7-2025.png
END:VEVENT
BEGIN:VEVENT
DTSTART;TZID=America/Phoenix:20260426T093000
DTEND;TZID=America/Phoenix:20260426T100000
DTSTAMP:20260425T062050
CREATED:20260401T214943Z
LAST-MODIFIED:20260401T214943Z
UID:4276-1777195800-1777197600@stjohnswilliamsaz.org
SUMMARY:Weekly Church Choir Rehearsal
DESCRIPTION:Everyone is welcome to join our choir – you do not have to be a member of St. John’s to sing.  Everyone who enjoys making a joyful noise to the Lord is Welcome.  Our choir is for Junior/middle high students through adults of all ages.  We will be working on anthems to be sung in April and May.
URL:https://stjohnswilliamsaz.org/event/weekly-church-choir-rehearsal-4/
LOCATION:St. John’s Episcopal-Lutheran Church\, 202 W Grant Ave.\, Williams\, AZ\, 86046\, United States
CATEGORIES:Church Choir Practice
ATTACH;FMTTYPE=image/png:https://stjohnswilliamsaz.org/wp-content/uploads/2021/10/choir-g885bc677a_640.png
END:VEVENT
BEGIN:VEVENT
DTSTART;TZID=America/Phoenix:20260428T100000
DTEND;TZID=America/Phoenix:20260428T110000
DTSTAMP:20260425T062050
CREATED:20260401T214010Z
LAST-MODIFIED:20260401T214010Z
UID:4270-1777370400-1777374000@stjohnswilliamsaz.org
SUMMARY:Book Study Group
DESCRIPTION:The book study group is open to anyone in the community.  The book we have been reading is Good Soil: The Education of an Accidental Farmhand\, by Jeff Chu.  This week we will have a Zoom meeting with the author! The book study group meets weekly in Walker Hall. \nNext week we will start with a new book!
URL:https://stjohnswilliamsaz.org/event/book-study-group-26/
LOCATION:St. John’s Episcopal-Lutheran Church\, 202 W Grant Ave.\, Williams\, AZ\, 86046\, United States
CATEGORIES:Weekly Book Study
ATTACH;FMTTYPE=image/jpeg:https://stjohnswilliamsaz.org/wp-content/uploads/2025/09/Good-soil.jpeg
END:VEVENT
BEGIN:VEVENT
DTSTART;TZID=America/Phoenix:20260503T093000
DTEND;TZID=America/Phoenix:20260503T100000
DTSTAMP:20260425T062050
CREATED:20260401T215158Z
LAST-MODIFIED:20260401T215158Z
UID:4278-1777800600-1777802400@stjohnswilliamsaz.org
SUMMARY:Weekly Church Choir Rehearsal
DESCRIPTION:Everyone is welcome to join our choir – you do not have to be a member of St. John’s to sing.  Everyone who enjoys making a joyful noise to the Lord is Welcome.  Our choir is for Junior/middle high students through adults of all ages.  We will be working on anthems to be sung in  May.
URL:https://stjohnswilliamsaz.org/event/weekly-church-choir-rehearsal-25/
LOCATION:St. John’s Episcopal-Lutheran Church\, 202 W Grant Ave.\, Williams\, AZ\, 86046\, United States
CATEGORIES:Church Choir Practice
ATTACH;FMTTYPE=image/png:https://stjohnswilliamsaz.org/wp-content/uploads/2021/10/choir-g885bc677a_640.png
END:VEVENT
BEGIN:VEVENT
DTSTART;TZID=America/Phoenix:20260514T120000
DTEND;TZID=America/Phoenix:20260514T124500
DTSTAMP:20260425T062050
CREATED:20260423T181506Z
LAST-MODIFIED:20260423T181506Z
UID:4305-1778760000-1778762700@stjohnswilliamsaz.org
SUMMARY:Healing Service
DESCRIPTION:We will hold a Healing Service for anyone in need of healing (physical\, spiritual\, mental\, etc.). This service is open to all in the community and visitors to Williams who are in need of any type of healing and spiritual comfort. You may also with to attend for someone you know who is in need of healing.  This service is also open to those who may not be able to worship with us on Sunday mornings\, and would like to attend a service with Communion.
URL:https://stjohnswilliamsaz.org/event/healing-service-11/
LOCATION:St. John’s Episcopal-Lutheran Church\, 202 W Grant Ave.\, Williams\, AZ\, 86046\, United States
CATEGORIES:Special church services
ATTACH;FMTTYPE=image/jpeg:https://stjohnswilliamsaz.org/wp-content/uploads/2024/06/prayer-together-5928481_640.jpg
END:VEVENT
BEGIN:VEVENT
DTSTART;TZID=America/Phoenix:20260521T100000
DTEND;TZID=America/Phoenix:20260521T140000
DTSTAMP:20260425T062050
CREATED:20260311T034501Z
LAST-MODIFIED:20260401T220836Z
UID:4220-1779357600-1779372000@stjohnswilliamsaz.org
SUMMARY:Set-up for Rummage Sale
DESCRIPTION:Volunteers are needed to unpack and sort donated items for our annual rummage sale on May 22 and 23.  Many hands make fast work for this event.  And we have tons of fun doing it!  We typically start around 10 a.m. and we are done by 2 p.m.  If you can only come for an hour\, that’s fine.  If you can come from start to finish – that’s great\, too. \nThis is the day that donations can be accepted from the Williams community for this sale.  No furniture can be accepted!  But we can use CLEAN and GENTLY-USED household items\, clothing\, tools\, indoor and outdoor home decor\, blankets\, small household appliances\, collectibles\, children’s toys\, etc.
URL:https://stjohnswilliamsaz.org/event/set-up-for-rummage-sale/
LOCATION:St. John’s Episcopal-Lutheran Church\, 202 W Grant Ave.\, Williams\, AZ\, 86046\, United States
CATEGORIES:Rummage Sale
ATTACH;FMTTYPE=image/jpeg:https://stjohnswilliamsaz.org/wp-content/uploads/2022/09/4.jpg
END:VEVENT
BEGIN:VEVENT
DTSTART;TZID=America/Phoenix:20260522T100000
DTEND;TZID=America/Phoenix:20260522T180000
DTSTAMP:20260425T062050
CREATED:20260401T220143Z
LAST-MODIFIED:20260401T220143Z
UID:4280-1779444000-1779472800@stjohnswilliamsaz.org
SUMMARY:Annual Memorial Day Weekend Rummage Sale
DESCRIPTION:The indoor annual rummage sale will be held for two days.  The sale will be open from 10 a.m. to 6 p.m. on Friday\, May 22nd and from 9 a.m. to 1 p.m. on Saturday May 23rd.  Items for sale have no prices on them – it is whatever the person would like to donate to St. John’s for the item(s). \nPersons wishing to donate items to the sale may do so on Thursday\, May 21st between 10 a.m. and 2 p.m.  We cannot take any furniture.  Also\, we ask that only CLEAN and GENETLY-USED items be donated.
URL:https://stjohnswilliamsaz.org/event/annual-memorial-day-weekend-rummage-sale/
LOCATION:St. John’s Episcopal-Lutheran Church\, 202 W Grant Ave.\, Williams\, AZ\, 86046\, United States
CATEGORIES:Rummage Sale
ATTACH;FMTTYPE=image/jpeg:https://stjohnswilliamsaz.org/wp-content/uploads/2022/09/4.jpg
END:VEVENT
BEGIN:VEVENT
DTSTART;TZID=America/Phoenix:20260523T090000
DTEND;TZID=America/Phoenix:20260523T130000
DTSTAMP:20260425T062050
CREATED:20260401T220525Z
LAST-MODIFIED:20260401T220525Z
UID:4282-1779526800-1779541200@stjohnswilliamsaz.org
SUMMARY:Annual Memorial Day Weekend Rummage Sale
DESCRIPTION:The indoor annual rummage sale will be held for two days.  The sale will be open from 10 a.m. to 6 p.m. on Friday\, May 22nd and from 9 a.m. to 1 p.m. on Saturday May 23rd.  Items for sale have no prices on them – it is whatever the person would like to donate to St. John’s for the item(s) selected. \nPersons wishing to donate items to the sale may do so on Thursday\, May 21st between 10 a.m. and 2 p.m.  We cannot take any furniture.  Also\, we ask that only CLEAN and GENETLY-USED items be donated.
URL:https://stjohnswilliamsaz.org/event/annual-memorial-day-weekend-rummage-sale-2/
LOCATION:St. John’s Episcopal-Lutheran Church\, 202 W Grant Ave.\, Williams\, AZ\, 86046\, United States
CATEGORIES:Rummage Sale
ATTACH;FMTTYPE=image/jpeg:https://stjohnswilliamsaz.org/wp-content/uploads/2023/03/3.jpg
END:VEVENT
BEGIN:VEVENT
DTSTART;TZID=America/Phoenix:20260528T120000
DTEND;TZID=America/Phoenix:20260528T124500
DTSTAMP:20260425T062050
CREATED:20260423T181655Z
LAST-MODIFIED:20260423T181655Z
UID:4307-1779969600-1779972300@stjohnswilliamsaz.org
SUMMARY:Healing Service
DESCRIPTION:We will hold a Healing Service for anyone in need of healing (physical\, spiritual\, mental\, etc.). This service is open to all in the community and visitors to Williams who are in need of any type of healing and spiritual comfort. You may also with to attend for someone you know who is in need of healing.  This service is also open to those who may not be able to worship with us on Sunday mornings\, and would like to attend a service with Communion.
URL:https://stjohnswilliamsaz.org/event/healing-service-12/
LOCATION:St. John’s Episcopal-Lutheran Church\, 202 W Grant Ave.\, Williams\, AZ\, 86046\, United States
CATEGORIES:Special church services
ATTACH;FMTTYPE=image/jpeg:https://stjohnswilliamsaz.org/wp-content/uploads/2024/06/prayer-together-5928481_640.jpg
END:VEVENT
BEGIN:VEVENT
DTSTART;TZID=America/Phoenix:20260611T170000
DTEND;TZID=America/Phoenix:20260613T120000
DTSTAMP:20260425T062050
CREATED:20251212T201045Z
LAST-MODIFIED:20251212T201045Z
UID:4013-1781197200-1781352000@stjohnswilliamsaz.org
SUMMARY:Grand Canyon Synod Assembly
DESCRIPTION:The 2026 Grand Canyon Synod Assembly will gather under the theme Rooted in God’s Story. We’ll come together for worship\, learning\, connection\, and the business of the church as we celebrate how God continues to work through our synod. \nTimes: Approximate and to be determined. \nMore information\, registration details\, and a full schedule will be shared as the date approaches.
URL:https://stjohnswilliamsaz.org/event/grand-canyon-synod-assembly/
LOCATION:Love of Christ Lutheran Church\, 1525 N Power Rd\, Mesa\, AZ\, 85207\, United States
CATEGORIES:Meetings
ATTACH;FMTTYPE=image/jpeg:https://stjohnswilliamsaz.org/wp-content/uploads/2025/12/ELCA_4c_horizontal-sm.jpg
ORGANIZER;CN="Grand Canyon Synod":MAILTO:office@gcsynod.org
END:VEVENT
BEGIN:VEVENT
DTSTART;TZID=America/Phoenix:20260620T140000
DTEND;TZID=America/Phoenix:20260620T160000
DTSTAMP:20260425T062050
CREATED:20260311T041018Z
LAST-MODIFIED:20260311T042541Z
UID:4223-1781964000-1781971200@stjohnswilliamsaz.org
SUMMARY:CircleSinging
DESCRIPTION:CircleSinging is a form of facilitated vocal improvisation.  It could be described as “a drum circle for singers” or “improvised choral music.” During the course of the ever-changing chant\, our leader develops and gives parts to a circle of singers\, which in turn may support individual solos.  Our CircleSinging event will be led by Ms. Elizabeth Hangan\, who has trained and done CircleSinging for several years all over California.  This is a community event that is open to teens and on up.  The only requirement is that you like to sing! There will be a free-will donation to participate in this fun event.
URL:https://stjohnswilliamsaz.org/event/circlesinging/
LOCATION:St. John’s Episcopal-Lutheran Church\, 202 W Grant Ave.\, Williams\, AZ\, 86046\, United States
CATEGORIES:Special events
ATTACH;FMTTYPE=image/png:https://stjohnswilliamsaz.org/wp-content/uploads/2026/03/banner-music-notes-colourful-white-background.png
END:VEVENT
BEGIN:VEVENT
DTSTART;TZID=America/Phoenix:20261017T080000
DTEND;TZID=America/Phoenix:20261017T170000
DTSTAMP:20260425T062050
CREATED:20260311T032855Z
LAST-MODIFIED:20260311T032925Z
UID:4218-1792224000-1792256400@stjohnswilliamsaz.org
SUMMARY:2026 Diocesan Convention - Episcopal Diocese of Arizona
DESCRIPTION:The 2026 Diocesan Convention will take place on October 17th\, 2026\, at Saint Barnabas on the Desert in Scottsdale. More information is coming soon!
URL:https://stjohnswilliamsaz.org/event/2026-diocesan-convention-episcopal-diocese-of-arizona/
LOCATION:St. Barnabas on the Desert\, 6715 N Mockingbird Ln\, Paradise Valley\, AZ\, 85253\, United States
CATEGORIES:Meetings
ATTACH;FMTTYPE=image/png:https://stjohnswilliamsaz.org/wp-content/uploads/2025/06/az_logo-150.png
END:VEVENT
END:VCALENDAR