BEGIN:VCALENDAR
VERSION:2.0
PRODID:-//St. John&#039;s Episcopal-Lutheran Church - ECPv6.15.20//NONSGML v1.0//EN
CALSCALE:GREGORIAN
METHOD:PUBLISH
X-WR-CALNAME:St. John&#039;s Episcopal-Lutheran Church
X-ORIGINAL-URL:https://stjohnswilliamsaz.org
X-WR-CALDESC:Events for St. John&#039;s Episcopal-Lutheran Church
REFRESH-INTERVAL;VALUE=DURATION:PT1H
X-Robots-Tag:noindex
X-PUBLISHED-TTL:PT1H
BEGIN:VTIMEZONE
TZID:America/Phoenix
BEGIN:STANDARD
TZOFFSETFROM:-0700
TZOFFSETTO:-0700
TZNAME:MST
DTSTART:20240101T000000
END:STANDARD
END:VTIMEZONE
BEGIN:VEVENT
DTSTART;TZID=America/Phoenix:20251203T160000
DTEND;TZID=America/Phoenix:20251203T170000
DTSTAMP:20260424T175352
CREATED:20251120T194525Z
LAST-MODIFIED:20251120T194525Z
UID:3954-1764777600-1764781200@stjohnswilliamsaz.org
SUMMARY:Lessons and Carols Rehearsal
DESCRIPTION:The community Lessons and Carols Choir rehearsals begin at 4:00 pm\, and will last about 60 minutes.  This is our final big rehearsal prior to the service/concert.  Please plan on attending! \nThe Lessons and Carols service will be held on December 7th at 3:30 pm at St. John’s. \nIf you have any questions or concerns about the service\, please write to Beth at info@stjohnswilliamsaz.org
URL:https://stjohnswilliamsaz.org/event/lessons-and-carols-rehearsal/
LOCATION:St. John’s Episcopal-Lutheran Church\, 202 W Grant Ave.\, Williams\, AZ\, 86046\, United States
CATEGORIES:Lessons and Carols
ATTACH;FMTTYPE=image/jpeg:https://stjohnswilliamsaz.org/wp-content/uploads/2024/12/Choir_7.jpg
END:VEVENT
BEGIN:VEVENT
DTSTART;TZID=America/Phoenix:20251204T090000
DTEND;TZID=America/Phoenix:20251204T100000
DTSTAMP:20260424T175352
CREATED:20251128T190728Z
LAST-MODIFIED:20251128T190728Z
UID:3965-1764838800-1764842400@stjohnswilliamsaz.org
SUMMARY:Book Study Group
DESCRIPTION:The group is open to anyone in the community.  The book will be passed out to everyone who comes\, who would like to read the book and discuss it together with the group over the coming weeks.  The book is Good Soil: The Education of an Accidental Farmhand\, by Jeff Chu.  The book study group meets weekly in Walker Hall.
URL:https://stjohnswilliamsaz.org/event/book-study-group-11/
LOCATION:St. John’s Episcopal-Lutheran Church\, 202 W Grant Ave.\, Williams\, AZ\, 86046\, United States
CATEGORIES:Weekly Book Study
ATTACH;FMTTYPE=image/jpeg:https://stjohnswilliamsaz.org/wp-content/uploads/2025/09/Good-soil.jpeg
END:VEVENT
BEGIN:VEVENT
DTSTART;TZID=America/Phoenix:20251207T093000
DTEND;TZID=America/Phoenix:20251207T100000
DTSTAMP:20260424T175352
CREATED:20251204T220424Z
LAST-MODIFIED:20251204T220424Z
UID:3988-1765099800-1765101600@stjohnswilliamsaz.org
SUMMARY:Weekly Church Choir Rehearsal
DESCRIPTION:The choir will be rehearsing two songs for Advent and a song for Christmas Eve Service.  Everyone is welcome to join our choir – you do not have to be a member of St. John’s to sing in our choir.  Everyone who enjoys making a joyful noise to the Lord is Welcome.  Our choir is for Junior high students through adults of all ages.
URL:https://stjohnswilliamsaz.org/event/weekly-church-choir-rehearsal-12/
LOCATION:St. John’s Episcopal-Lutheran Church\, 202 W Grant Ave.\, Williams\, AZ\, 86046\, United States
CATEGORIES:Church Choir Practice
ATTACH;FMTTYPE=image/png:https://stjohnswilliamsaz.org/wp-content/uploads/2021/10/choir-g885bc677a_640.png
END:VEVENT
BEGIN:VEVENT
DTSTART;TZID=America/Phoenix:20251207T150000
DTEND;TZID=America/Phoenix:20251207T163000
DTSTAMP:20260424T175352
CREATED:20250624T195441Z
LAST-MODIFIED:20251204T220526Z
UID:3685-1765119600-1765125000@stjohnswilliamsaz.org
SUMMARY:Lessons and Carols
DESCRIPTION:You are invited to our annual ecumenical service of Lessons and Carols.  This year’s concert will feature the Williams Community Handbell Choir along with the Lessons and Carols Choir.  Other special local musicians will also be added to the program for this year.  Local pastors from churches in Williams will participate in the reading of the Lessons.  This is a free concert/service for the entire family.  After the concert there will be refreshments in the fellowship hall and a time to meet the many participants of this highly anticipated annual event for the community.
URL:https://stjohnswilliamsaz.org/event/lessons-and-carols/
LOCATION:St. John’s Episcopal-Lutheran Church\, 202 W Grant Ave.\, Williams\, AZ\, 86046\, United States
ATTACH;FMTTYPE=image/jpeg:https://stjohnswilliamsaz.org/wp-content/uploads/2024/12/Choir_6.jpg
END:VEVENT
BEGIN:VEVENT
DTSTART;TZID=America/Phoenix:20251211T090000
DTEND;TZID=America/Phoenix:20251211T100000
DTSTAMP:20260424T175352
CREATED:20251204T215953Z
LAST-MODIFIED:20251204T215953Z
UID:3986-1765443600-1765447200@stjohnswilliamsaz.org
SUMMARY:Book Study Group
DESCRIPTION:The group is open to anyone in the community.  The book will be passed out to everyone who comes\, who would like to read the book and discuss it together with the group over the coming weeks.  The book is Good Soil: The Education of an Accidental Farmhand\, by Jeff Chu.  The book study group meets weekly in Walker Hall.
URL:https://stjohnswilliamsaz.org/event/book-study-group-12/
LOCATION:St. John’s Episcopal-Lutheran Church\, 202 W Grant Ave.\, Williams\, AZ\, 86046\, United States
CATEGORIES:Weekly Book Study
ATTACH;FMTTYPE=image/jpeg:https://stjohnswilliamsaz.org/wp-content/uploads/2025/09/Good-soil.jpeg
END:VEVENT
BEGIN:VEVENT
DTSTART;TZID=America/Phoenix:20251211T130000
DTEND;TZID=America/Phoenix:20251211T150000
DTSTAMP:20260424T175352
CREATED:20251128T191010Z
LAST-MODIFIED:20251128T191010Z
UID:3967-1765458000-1765465200@stjohnswilliamsaz.org
SUMMARY:Bishop's Committee Meeting
DESCRIPTION:The Bishop’s Committee will  hold its regular monthly meeting at 1 PM in Walker Hall.  The Committee will have monthly reports from officers and also be discussing an emergency phone tree and also emergency planning amongst other timely topics.
URL:https://stjohnswilliamsaz.org/event/bishops-committee-meeting-4/
LOCATION:St. John’s Episcopal-Lutheran Church\, 202 W Grant Ave.\, Williams\, AZ\, 86046\, United States
CATEGORIES:Meetings
ATTACH;FMTTYPE=image/png:https://stjohnswilliamsaz.org/wp-content/uploads/2024/01/group-1962592_640-meeting.png
END:VEVENT
BEGIN:VEVENT
DTSTART;TZID=America/Phoenix:20251218T090000
DTEND;TZID=America/Phoenix:20251218T100000
DTSTAMP:20260424T175352
CREATED:20251212T195937Z
LAST-MODIFIED:20251212T195937Z
UID:4009-1766048400-1766052000@stjohnswilliamsaz.org
SUMMARY:Book Study Group
DESCRIPTION:The group is open to anyone in the community.  The book will be passed out to everyone who comes\, who would like to read the book and discuss it together with the group over the coming weeks.  The book is Good Soil: The Education of an Accidental Farmhand\, by Jeff Chu.  The book study group meets weekly in Walker Hall.
URL:https://stjohnswilliamsaz.org/event/book-study-group-14/
LOCATION:St. John’s Episcopal-Lutheran Church\, 202 W Grant Ave.\, Williams\, AZ\, 86046\, United States
CATEGORIES:Weekly Book Study
ATTACH;FMTTYPE=image/jpeg:https://stjohnswilliamsaz.org/wp-content/uploads/2025/09/Good-soil.jpeg
END:VEVENT
BEGIN:VEVENT
DTSTART;TZID=America/Phoenix:20251221T093000
DTEND;TZID=America/Phoenix:20251221T100000
DTSTAMP:20260424T175352
CREATED:20251212T200212Z
LAST-MODIFIED:20251212T200212Z
UID:4011-1766309400-1766311200@stjohnswilliamsaz.org
SUMMARY:Weekly Church Choir Rehearsal
DESCRIPTION:The choir will be rehearsing two songs for Advent and a song for Christmas Eve Service.  Everyone is welcome to join our choir – you do not have to be a member of St. John’s to sing in our choir.  Everyone who enjoys making a joyful noise to the Lord is Welcome.  Our choir is for Junior high students through adults of all ages.
URL:https://stjohnswilliamsaz.org/event/weekly-church-choir-rehearsal-13/
LOCATION:St. John’s Episcopal-Lutheran Church\, 202 W Grant Ave.\, Williams\, AZ\, 86046\, United States
CATEGORIES:Church Choir Practice
ATTACH;FMTTYPE=image/png:https://stjohnswilliamsaz.org/wp-content/uploads/2021/10/choir-g885bc677a_640.png
END:VEVENT
BEGIN:VEVENT
DTSTART;TZID=America/Phoenix:20251224T160000
DTEND;TZID=America/Phoenix:20251224T170000
DTSTAMP:20260424T175352
CREATED:20251205T023537Z
LAST-MODIFIED:20251211T201201Z
UID:3991-1766592000-1766595600@stjohnswilliamsaz.org
SUMMARY:Christmas Eve Candlelight Service
DESCRIPTION:Everyone is invited to attend St. John’s Christmas Eve Candlelight Service.  The service will be held at 4 PM so that those who need to travel some distance to get to Williams will not be traveling back home late.  The service will include special music and Holy Eucharist.  All are welcome!
URL:https://stjohnswilliamsaz.org/event/christmas-eve-candlelight-service/
LOCATION:St. John’s Episcopal-Lutheran Church\, 202 W Grant Ave.\, Williams\, AZ\, 86046\, United States
CATEGORIES:Special church services
ATTACH;FMTTYPE=image/jpeg:https://stjohnswilliamsaz.org/wp-content/uploads/2025/12/candles-5862976_640.jpg
END:VEVENT
END:VCALENDAR