BEGIN:VCALENDAR
VERSION:2.0
PRODID:-//St. John&#039;s Episcopal-Lutheran Church - ECPv6.15.20//NONSGML v1.0//EN
CALSCALE:GREGORIAN
METHOD:PUBLISH
X-ORIGINAL-URL:https://stjohnswilliamsaz.org
X-WR-CALDESC:Events for St. John&#039;s Episcopal-Lutheran Church
REFRESH-INTERVAL;VALUE=DURATION:PT1H
X-Robots-Tag:noindex
X-PUBLISHED-TTL:PT1H
BEGIN:VTIMEZONE
TZID:America/Phoenix
BEGIN:STANDARD
TZOFFSETFROM:-0700
TZOFFSETTO:-0700
TZNAME:MST
DTSTART:20250101T000000
END:STANDARD
END:VTIMEZONE
BEGIN:VEVENT
DTSTART;TZID=America/Phoenix:20260108T090000
DTEND;TZID=America/Phoenix:20260108T100000
DTSTAMP:20260424T161406
CREATED:20260106T034604Z
LAST-MODIFIED:20260106T034604Z
UID:4047-1767862800-1767866400@stjohnswilliamsaz.org
SUMMARY:Book Study Group
DESCRIPTION:The group is open to anyone in the community.  The book will be passed out to everyone who comes\, who would like to read the book and discuss it together with the group over the coming weeks.  The book is Good Soil: The Education of an Accidental Farmhand\, by Jeff Chu.  The book study group meets weekly in Walker Hall.
URL:https://stjohnswilliamsaz.org/event/book-study-group-15/
LOCATION:St. John’s Episcopal-Lutheran Church\, 202 W Grant Ave.\, Williams\, AZ\, 86046\, United States
CATEGORIES:Weekly Book Study
ATTACH;FMTTYPE=image/jpeg:https://stjohnswilliamsaz.org/wp-content/uploads/2025/09/Good-soil.jpeg
END:VEVENT
BEGIN:VEVENT
DTSTART;TZID=America/Phoenix:20260108T120000
DTEND;TZID=America/Phoenix:20260108T124500
DTSTAMP:20260424T161406
CREATED:20260106T032813Z
LAST-MODIFIED:20260106T032858Z
UID:4042-1767873600-1767876300@stjohnswilliamsaz.org
SUMMARY:Healing Service
DESCRIPTION:We will hold our next Healing Service for anyone in need of healing (physical\, spiritual\, mental\, etc.). This service is open to all in the community who are in need of any type of healing and spiritual comfort. You may also with to attend for someone you know who is in need of healing.  This service is also open to those who may not be able to worship with us on Sunday mornings\, and would like to attend a service with Communion.
URL:https://stjohnswilliamsaz.org/event/healing-service-4/
LOCATION:St. John’s Episcopal-Lutheran Church\, 202 W Grant Ave.\, Williams\, AZ\, 86046\, United States
CATEGORIES:Special church services
ATTACH;FMTTYPE=image/jpeg:https://stjohnswilliamsaz.org/wp-content/uploads/2024/06/prayer-together-5928481_640.jpg
END:VEVENT
BEGIN:VEVENT
DTSTART;TZID=America/Phoenix:20260108T130000
DTEND;TZID=America/Phoenix:20260108T140000
DTSTAMP:20260424T161406
CREATED:20260106T034006Z
LAST-MODIFIED:20260106T034236Z
UID:4044-1767877200-1767880800@stjohnswilliamsaz.org
SUMMARY:Bible Study
DESCRIPTION:Fr. Shaw is restarting Bible Study classes now that we are through the holiday season.  The class will begin at 1 pm.  All are welcome.
URL:https://stjohnswilliamsaz.org/event/bible-study/
LOCATION:St. John’s Episcopal-Lutheran Church\, 202 W Grant Ave.\, Williams\, AZ\, 86046\, United States
CATEGORIES:Bible Study
ATTACH;FMTTYPE=image/jpeg:https://stjohnswilliamsaz.org/wp-content/uploads/2017/11/bible-1149924_640.jpg
END:VEVENT
BEGIN:VEVENT
DTSTART;TZID=America/Phoenix:20260111T093000
DTEND;TZID=America/Phoenix:20260111T100000
DTSTAMP:20260424T161406
CREATED:20260106T035218Z
LAST-MODIFIED:20260106T035218Z
UID:4051-1768123800-1768125600@stjohnswilliamsaz.org
SUMMARY:Weekly Church Choir Rehearsal
DESCRIPTION:The choir will be rehearsing two songs the season after Epiphany\, and looking ahead to Lent.  Everyone is welcome to join our choir – you do not have to be a member of St. John’s to sing.  Everyone who enjoys making a joyful noise to the Lord is Welcome.  Our choir is for Junior/middle high students through adults of all ages.
URL:https://stjohnswilliamsaz.org/event/weekly-church-choir-rehearsal-14/
LOCATION:St. John’s Episcopal-Lutheran Church\, 202 W Grant Ave.\, Williams\, AZ\, 86046\, United States
CATEGORIES:Church Choir Practice
ATTACH;FMTTYPE=image/png:https://stjohnswilliamsaz.org/wp-content/uploads/2021/10/choir-g885bc677a_640.png
END:VEVENT
BEGIN:VEVENT
DTSTART;TZID=America/Phoenix:20260115T090000
DTEND;TZID=America/Phoenix:20260115T100000
DTSTAMP:20260424T161406
CREATED:20260106T034813Z
LAST-MODIFIED:20260106T034813Z
UID:4049-1768467600-1768471200@stjohnswilliamsaz.org
SUMMARY:Book Study Group
DESCRIPTION:The group is open to anyone in the community.  The book will be passed out to everyone who comes\, who would like to read the book and discuss it together with the group over the coming weeks.  The book is Good Soil: The Education of an Accidental Farmhand\, by Jeff Chu.  The book study group meets weekly in Walker Hall.
URL:https://stjohnswilliamsaz.org/event/book-study-group-16/
LOCATION:St. John’s Episcopal-Lutheran Church\, 202 W Grant Ave.\, Williams\, AZ\, 86046\, United States
CATEGORIES:Weekly Book Study
ATTACH;FMTTYPE=image/jpeg:https://stjohnswilliamsaz.org/wp-content/uploads/2025/09/Good-soil.jpeg
END:VEVENT
BEGIN:VEVENT
DTSTART;TZID=America/Phoenix:20260115T130000
DTEND;TZID=America/Phoenix:20260115T140000
DTSTAMP:20260424T161406
CREATED:20260115T011218Z
LAST-MODIFIED:20260115T011405Z
UID:4070-1768482000-1768485600@stjohnswilliamsaz.org
SUMMARY:Bishop's Committee Meeting
DESCRIPTION:The Bishop’s Committee will meet to discuss general business matters\, and then will follow that meeting with another meeting focused on creating an annual budget for the church year to be presented to the congregation at its annual meeting in February.
URL:https://stjohnswilliamsaz.org/event/bishops-committee-meeting/
LOCATION:St. John’s Episcopal-Lutheran Church\, 202 W Grant Ave.\, Williams\, AZ\, 86046\, United States
CATEGORIES:Meetings
ATTACH;FMTTYPE=image/png:https://stjohnswilliamsaz.org/wp-content/uploads/2024/01/group-1962592_640-meeting.png
END:VEVENT
BEGIN:VEVENT
DTSTART;TZID=America/Phoenix:20260118T093000
DTEND;TZID=America/Phoenix:20260118T100000
DTSTAMP:20260424T161406
CREATED:20260106T035416Z
LAST-MODIFIED:20260106T035416Z
UID:4053-1768728600-1768730400@stjohnswilliamsaz.org
SUMMARY:Weekly Church Choir Rehearsal
DESCRIPTION:The choir will be rehearsing two songs the season after Epiphany\, and looking ahead to Lent.  Everyone is welcome to join our choir – you do not have to be a member of St. John’s to sing.  Everyone who enjoys making a joyful noise to the Lord is Welcome.  Our choir is for Junior/middle high students through adults of all ages.
URL:https://stjohnswilliamsaz.org/event/weekly-church-choir-rehearsal-15/
LOCATION:St. John’s Episcopal-Lutheran Church\, 202 W Grant Ave.\, Williams\, AZ\, 86046\, United States
CATEGORIES:Church Choir Practice
ATTACH;FMTTYPE=image/png:https://stjohnswilliamsaz.org/wp-content/uploads/2021/10/choir-g885bc677a_640.png
END:VEVENT
BEGIN:VEVENT
DTSTART;TZID=America/Phoenix:20260122T090000
DTEND;TZID=America/Phoenix:20260122T100000
DTSTAMP:20260424T161406
CREATED:20260115T011936Z
LAST-MODIFIED:20260115T011936Z
UID:4076-1769072400-1769076000@stjohnswilliamsaz.org
SUMMARY:Book Study Group
DESCRIPTION:The group is open to anyone in the community.  The book will be passed out to everyone who comes\, who would like to read the book and discuss it together with the group over the coming weeks.  The book is Good Soil: The Education of an Accidental Farmhand\, by Jeff Chu.  The book study group meets weekly in Walker Hall.
URL:https://stjohnswilliamsaz.org/event/book-study-group-17/
LOCATION:St. John’s Episcopal-Lutheran Church\, 202 W Grant Ave.\, Williams\, AZ\, 86046\, United States
CATEGORIES:Weekly Book Study
ATTACH;FMTTYPE=image/jpeg:https://stjohnswilliamsaz.org/wp-content/uploads/2025/09/Good-soil.jpeg
END:VEVENT
BEGIN:VEVENT
DTSTART;TZID=America/Phoenix:20260122T120000
DTEND;TZID=America/Phoenix:20260122T130000
DTSTAMP:20260424T161406
CREATED:20260115T011642Z
LAST-MODIFIED:20260115T011642Z
UID:4073-1769083200-1769086800@stjohnswilliamsaz.org
SUMMARY:Healing Service
DESCRIPTION:We will hold our next Healing Service for anyone in need of healing (physical\, spiritual\, mental\, etc.). This service is open to all in the community who are in need of any type of healing and spiritual comfort. You may also with to attend for someone you know who is in need of healing.  This service is also open to those who may not be able to worship with us on Sunday mornings\, and would like to attend a service with Communion.
URL:https://stjohnswilliamsaz.org/event/healing-service-5/
LOCATION:St. John’s Episcopal-Lutheran Church\, 202 W Grant Ave.\, Williams\, AZ\, 86046\, United States
CATEGORIES:Special church services
ATTACH;FMTTYPE=image/jpeg:https://stjohnswilliamsaz.org/wp-content/uploads/2024/06/prayer-together-5928481_640.jpg
END:VEVENT
BEGIN:VEVENT
DTSTART;TZID=America/Phoenix:20260122T130000
DTEND;TZID=America/Phoenix:20260122T140000
DTSTAMP:20260424T161406
CREATED:20260115T012331Z
LAST-MODIFIED:20260115T012331Z
UID:4078-1769086800-1769090400@stjohnswilliamsaz.org
SUMMARY:Bible Study
DESCRIPTION:Fr. Shaw is has restarted a Bible Study class.  The class will begin at 1 pm\, after the Healing Service.  All are welcome.  You do not need to be a member of St. John’s to join in.
URL:https://stjohnswilliamsaz.org/event/bible-study-2/
LOCATION:St. John’s Episcopal-Lutheran Church\, 202 W Grant Ave.\, Williams\, AZ\, 86046\, United States
CATEGORIES:Bible Study
ATTACH;FMTTYPE=image/jpeg:https://stjohnswilliamsaz.org/wp-content/uploads/2017/11/bible-1149924_640.jpg
END:VEVENT
BEGIN:VEVENT
DTSTART;TZID=America/Phoenix:20260125T093000
DTEND;TZID=America/Phoenix:20260125T100000
DTSTAMP:20260424T161406
CREATED:20260115T012906Z
LAST-MODIFIED:20260115T012920Z
UID:4082-1769333400-1769335200@stjohnswilliamsaz.org
SUMMARY:Weekly Church Choir Rehearsal
DESCRIPTION:The choir will be rehearsing songs for the season after Epiphany and Lent.  Everyone is welcome to join our choir – you do not have to be a member of St. John’s to sing.  Everyone who enjoys making a joyful noise to the Lord is Welcome.  Our choir is for Junior/middle high students through adults of all ages.
URL:https://stjohnswilliamsaz.org/event/weekly-church-choir-rehearsal-16/
LOCATION:St. John’s Episcopal-Lutheran Church\, 202 W Grant Ave.\, Williams\, AZ\, 86046\, United States
CATEGORIES:Church Choir Practice
ATTACH;FMTTYPE=image/png:https://stjohnswilliamsaz.org/wp-content/uploads/2021/10/choir-g885bc677a_640.png
END:VEVENT
BEGIN:VEVENT
DTSTART;TZID=America/Phoenix:20260129T090000
DTEND;TZID=America/Phoenix:20260129T100000
DTSTAMP:20260424T161406
CREATED:20260115T012631Z
LAST-MODIFIED:20260115T012631Z
UID:4080-1769677200-1769680800@stjohnswilliamsaz.org
SUMMARY:Book Study Group
DESCRIPTION:The group is open to anyone in the community.  The book will be passed out to everyone who comes\, who would like to read the book and discuss it together with the group over the coming weeks.  The book is Good Soil: The Education of an Accidental Farmhand\, by Jeff Chu.  The book study group meets weekly in Walker Hall.
URL:https://stjohnswilliamsaz.org/event/book-study-group-18/
LOCATION:St. John’s Episcopal-Lutheran Church\, 202 W Grant Ave.\, Williams\, AZ\, 86046\, United States
CATEGORIES:Weekly Book Study
ATTACH;FMTTYPE=image/jpeg:https://stjohnswilliamsaz.org/wp-content/uploads/2025/09/Good-soil.jpeg
END:VEVENT
END:VCALENDAR