BEGIN:VCALENDAR
VERSION:2.0
PRODID:-//St. John&#039;s Episcopal-Lutheran Church - ECPv6.15.20//NONSGML v1.0//EN
CALSCALE:GREGORIAN
METHOD:PUBLISH
X-ORIGINAL-URL:https://stjohnswilliamsaz.org
X-WR-CALDESC:Events for St. John&#039;s Episcopal-Lutheran Church
REFRESH-INTERVAL;VALUE=DURATION:PT1H
X-Robots-Tag:noindex
X-PUBLISHED-TTL:PT1H
BEGIN:VTIMEZONE
TZID:America/Phoenix
BEGIN:STANDARD
TZOFFSETFROM:-0700
TZOFFSETTO:-0700
TZNAME:MST
DTSTART:20250101T000000
END:STANDARD
END:VTIMEZONE
BEGIN:VEVENT
DTSTART;TZID=America/Phoenix:20260503T093000
DTEND;TZID=America/Phoenix:20260503T100000
DTSTAMP:20260424T131230
CREATED:20260401T215158Z
LAST-MODIFIED:20260401T215158Z
UID:4278-1777800600-1777802400@stjohnswilliamsaz.org
SUMMARY:Weekly Church Choir Rehearsal
DESCRIPTION:Everyone is welcome to join our choir – you do not have to be a member of St. John’s to sing.  Everyone who enjoys making a joyful noise to the Lord is Welcome.  Our choir is for Junior/middle high students through adults of all ages.  We will be working on anthems to be sung in  May.
URL:https://stjohnswilliamsaz.org/event/weekly-church-choir-rehearsal-25/
LOCATION:St. John’s Episcopal-Lutheran Church\, 202 W Grant Ave.\, Williams\, AZ\, 86046\, United States
CATEGORIES:Church Choir Practice
ATTACH;FMTTYPE=image/png:https://stjohnswilliamsaz.org/wp-content/uploads/2021/10/choir-g885bc677a_640.png
END:VEVENT
BEGIN:VEVENT
DTSTART;TZID=America/Phoenix:20260514T120000
DTEND;TZID=America/Phoenix:20260514T124500
DTSTAMP:20260424T131230
CREATED:20260423T181506Z
LAST-MODIFIED:20260423T181506Z
UID:4305-1778760000-1778762700@stjohnswilliamsaz.org
SUMMARY:Healing Service
DESCRIPTION:We will hold a Healing Service for anyone in need of healing (physical\, spiritual\, mental\, etc.). This service is open to all in the community and visitors to Williams who are in need of any type of healing and spiritual comfort. You may also with to attend for someone you know who is in need of healing.  This service is also open to those who may not be able to worship with us on Sunday mornings\, and would like to attend a service with Communion.
URL:https://stjohnswilliamsaz.org/event/healing-service-11/
LOCATION:St. John’s Episcopal-Lutheran Church\, 202 W Grant Ave.\, Williams\, AZ\, 86046\, United States
CATEGORIES:Special church services
ATTACH;FMTTYPE=image/jpeg:https://stjohnswilliamsaz.org/wp-content/uploads/2024/06/prayer-together-5928481_640.jpg
END:VEVENT
BEGIN:VEVENT
DTSTART;TZID=America/Phoenix:20260521T100000
DTEND;TZID=America/Phoenix:20260521T140000
DTSTAMP:20260424T131230
CREATED:20260311T034501Z
LAST-MODIFIED:20260401T220836Z
UID:4220-1779357600-1779372000@stjohnswilliamsaz.org
SUMMARY:Set-up for Rummage Sale
DESCRIPTION:Volunteers are needed to unpack and sort donated items for our annual rummage sale on May 22 and 23.  Many hands make fast work for this event.  And we have tons of fun doing it!  We typically start around 10 a.m. and we are done by 2 p.m.  If you can only come for an hour\, that’s fine.  If you can come from start to finish – that’s great\, too. \nThis is the day that donations can be accepted from the Williams community for this sale.  No furniture can be accepted!  But we can use CLEAN and GENTLY-USED household items\, clothing\, tools\, indoor and outdoor home decor\, blankets\, small household appliances\, collectibles\, children’s toys\, etc.
URL:https://stjohnswilliamsaz.org/event/set-up-for-rummage-sale/
LOCATION:St. John’s Episcopal-Lutheran Church\, 202 W Grant Ave.\, Williams\, AZ\, 86046\, United States
CATEGORIES:Rummage Sale
ATTACH;FMTTYPE=image/jpeg:https://stjohnswilliamsaz.org/wp-content/uploads/2022/09/4.jpg
END:VEVENT
BEGIN:VEVENT
DTSTART;TZID=America/Phoenix:20260522T100000
DTEND;TZID=America/Phoenix:20260522T180000
DTSTAMP:20260424T131230
CREATED:20260401T220143Z
LAST-MODIFIED:20260401T220143Z
UID:4280-1779444000-1779472800@stjohnswilliamsaz.org
SUMMARY:Annual Memorial Day Weekend Rummage Sale
DESCRIPTION:The indoor annual rummage sale will be held for two days.  The sale will be open from 10 a.m. to 6 p.m. on Friday\, May 22nd and from 9 a.m. to 1 p.m. on Saturday May 23rd.  Items for sale have no prices on them – it is whatever the person would like to donate to St. John’s for the item(s). \nPersons wishing to donate items to the sale may do so on Thursday\, May 21st between 10 a.m. and 2 p.m.  We cannot take any furniture.  Also\, we ask that only CLEAN and GENETLY-USED items be donated.
URL:https://stjohnswilliamsaz.org/event/annual-memorial-day-weekend-rummage-sale/
LOCATION:St. John’s Episcopal-Lutheran Church\, 202 W Grant Ave.\, Williams\, AZ\, 86046\, United States
CATEGORIES:Rummage Sale
ATTACH;FMTTYPE=image/jpeg:https://stjohnswilliamsaz.org/wp-content/uploads/2022/09/4.jpg
END:VEVENT
BEGIN:VEVENT
DTSTART;TZID=America/Phoenix:20260523T090000
DTEND;TZID=America/Phoenix:20260523T130000
DTSTAMP:20260424T131230
CREATED:20260401T220525Z
LAST-MODIFIED:20260401T220525Z
UID:4282-1779526800-1779541200@stjohnswilliamsaz.org
SUMMARY:Annual Memorial Day Weekend Rummage Sale
DESCRIPTION:The indoor annual rummage sale will be held for two days.  The sale will be open from 10 a.m. to 6 p.m. on Friday\, May 22nd and from 9 a.m. to 1 p.m. on Saturday May 23rd.  Items for sale have no prices on them – it is whatever the person would like to donate to St. John’s for the item(s) selected. \nPersons wishing to donate items to the sale may do so on Thursday\, May 21st between 10 a.m. and 2 p.m.  We cannot take any furniture.  Also\, we ask that only CLEAN and GENETLY-USED items be donated.
URL:https://stjohnswilliamsaz.org/event/annual-memorial-day-weekend-rummage-sale-2/
LOCATION:St. John’s Episcopal-Lutheran Church\, 202 W Grant Ave.\, Williams\, AZ\, 86046\, United States
CATEGORIES:Rummage Sale
ATTACH;FMTTYPE=image/jpeg:https://stjohnswilliamsaz.org/wp-content/uploads/2023/03/3.jpg
END:VEVENT
BEGIN:VEVENT
DTSTART;TZID=America/Phoenix:20260528T120000
DTEND;TZID=America/Phoenix:20260528T124500
DTSTAMP:20260424T131230
CREATED:20260423T181655Z
LAST-MODIFIED:20260423T181655Z
UID:4307-1779969600-1779972300@stjohnswilliamsaz.org
SUMMARY:Healing Service
DESCRIPTION:We will hold a Healing Service for anyone in need of healing (physical\, spiritual\, mental\, etc.). This service is open to all in the community and visitors to Williams who are in need of any type of healing and spiritual comfort. You may also with to attend for someone you know who is in need of healing.  This service is also open to those who may not be able to worship with us on Sunday mornings\, and would like to attend a service with Communion.
URL:https://stjohnswilliamsaz.org/event/healing-service-12/
LOCATION:St. John’s Episcopal-Lutheran Church\, 202 W Grant Ave.\, Williams\, AZ\, 86046\, United States
CATEGORIES:Special church services
ATTACH;FMTTYPE=image/jpeg:https://stjohnswilliamsaz.org/wp-content/uploads/2024/06/prayer-together-5928481_640.jpg
END:VEVENT
END:VCALENDAR